BEGIN:VCALENDAR
VERSION:2.0
PRODID:-//Österreichische Weinbruderschaft - ECPv6.11.2//NONSGML v1.0//EN
CALSCALE:GREGORIAN
METHOD:PUBLISH
X-ORIGINAL-URL:https://www.owb.at
X-WR-CALDESC:Veranstaltungen für Österreichische Weinbruderschaft
REFRESH-INTERVAL;VALUE=DURATION:PT1H
X-Robots-Tag:noindex
X-PUBLISHED-TTL:PT1H
BEGIN:VTIMEZONE
TZID:Europe/Vienna
BEGIN:DAYLIGHT
TZOFFSETFROM:+0100
TZOFFSETTO:+0200
TZNAME:CEST
DTSTART:20260329T010000
END:DAYLIGHT
BEGIN:STANDARD
TZOFFSETFROM:+0200
TZOFFSETTO:+0100
TZNAME:CET
DTSTART:20261025T010000
END:STANDARD
END:VTIMEZONE
BEGIN:VEVENT
DTSTART;TZID=Europe/Vienna:20260612T180000
DTEND;TZID=Europe/Vienna:20260612T210000
DTSTAMP:20260420T105117
CREATED:20251228T182449Z
LAST-MODIFIED:20251229T111459Z
UID:22598-1781287200-1781298000@www.owb.at
SUMMARY:Andalusien & Delikatessen (St)
DESCRIPTION:
URL:https://www.owb.at/event/andalusien-delikatessen/
LOCATION:Ferl’s Weinstube\, Burggasse 10\, Graz\, Steiermark\, 8010\, Österreich
CATEGORIES:Allgemein,Steiermark
ATTACH;FMTTYPE=image/webp:https://www.owb.at/wp-content/uploads/2025/12/header-new-14.webp
ORGANIZER;CN="Johann Baumgartner":MAILTO:johann.baumgartner@kages.at
END:VEVENT
BEGIN:VEVENT
DTSTART;TZID=Europe/Vienna:20260620T100000
DTEND;TZID=Europe/Vienna:20260620T163000
DTSTAMP:20260420T105117
CREATED:20260122T112034Z
LAST-MODIFIED:20260217T120642Z
UID:23094-1781949600-1781973000@www.owb.at
SUMMARY:Sommerfest 2026 im WG Reeh (B)
DESCRIPTION:Unser Sommerfest findet heuer am Samstag\, den 20. Juni im Weingut Reeh in Andau statt! \nFreuen wir uns auf einen köstlichen Brunch im wunderschönen Garten des Weinguts! \n\nBitte den Termin vormerken und dafür 10:00-16:30 einplanen\, Details folgen!
URL:https://www.owb.at/event/bgld-sommerfest-2026/
LOCATION:WG Reeh\, Augasse 11\, Andau\, 7361\, Austria
CATEGORIES:Allgemein,Burgenland
ATTACH;FMTTYPE=image/jpeg:https://www.owb.at/wp-content/uploads/2022/10/OF-2022-WG-Reeh-11.jpg
END:VEVENT
BEGIN:VEVENT
DTSTART;TZID=Europe/Vienna:20260626T180000
DTEND;TZID=Europe/Vienna:20260626T220000
DTSTAMP:20260420T105117
CREATED:20260225T200323Z
LAST-MODIFIED:20260225T200323Z
UID:23478-1782496800-1782511200@www.owb.at
SUMMARY:Kulinarium
DESCRIPTION:
URL:https://www.owb.at/event/kulinarium-3/
LOCATION:Derzeit offen
END:VEVENT
BEGIN:VEVENT
DTSTART;VALUE=DATE:20260627
DTEND;VALUE=DATE:20260628
DTSTAMP:20260420T105117
CREATED:20260223T142110Z
LAST-MODIFIED:20260223T142219Z
UID:23417-1782518400-1782604799@www.owb.at
SUMMARY:Sommerfest in das Nordburgenland (W/NÖ)
DESCRIPTION:Der Komtureirat der Komturei Wien Niederösterreich\nDer Österreichischen Weinbruderschaft\nfreut sich\nzum diesjährigen\nSommerfest in das Nordburgenland\nder Komturei Wien NÖ\nSamstag\, 27. Juni 2026\nBusreise nach Mönchhof u. Apetlon\neinzuladen.\nWir freuen uns\, zu dieser Veranstaltung die Weinbrüder mit ihrer Begleitung\nsowie Gäste begrüßen zu dürfen. \nHinweis: Bei unseren Veranstaltungen werden Fotos gemacht werden\, von denen eine Auswahl auf unserer Website für unsere Weinbrüder veröffentlicht werden. Mit der Anmeldung zu einer Veranstaltung wird von den Teilnehmern das ausdrückliche Einverständnis gegeben\, Bilder von den Teilnehmern zu machen und auf der Website zu veröffentlichen.
URL:https://www.owb.at/event/sommerfest-2026-wno/
LOCATION:Tirol
CATEGORIES:Allgemein,Wien und Niederösterreich
ATTACH;FMTTYPE=image/jpeg:https://www.owb.at/wp-content/uploads/2026/02/Apetlon.jpg
END:VEVENT
BEGIN:VEVENT
DTSTART;TZID=Europe/Vienna:20260627T180000
DTEND;TZID=Europe/Vienna:20260627T180000
DTSTAMP:20260420T105117
CREATED:20260120T143445Z
LAST-MODIFIED:20260217T144942Z
UID:23016-1782583200-1782583200@www.owb.at
SUMMARY:Galadiner der Komturei (OÖ)
DESCRIPTION:Das Galadiner 2026 wird im Zeichen der Feier von 50 Jahren Komturei OÖ stehen und durch erlesene Weine aus dem Komtureikeller begleitet werden. Spitzenkoch Erich Lukas und sein Team werden uns mit einem auf die Weiß- und Rotweine abgestimmten Menü verwöhnen. \nDer Preis für das Diner mit Aperitif\, Weinbegleitung\, Mineralwasser und Mocca beträgt pro Person für Mitglieder der Weinbruderschaft und deren Begleitung € 150\,00 und für Gäste € 190\,00.\n(Details folgen noch in gesonderter Aussendung).
URL:https://www.owb.at/event/galadiner-06-2026/
LOCATION:VERDI Restaurant & Einkehr\, Pachmaayrstraße 137\, Linz\, Oberösterreich\, 4040\, Österreich
CATEGORIES:Allgemein,Oberösterreich
ATTACH;FMTTYPE=image/jpeg:https://www.owb.at/wp-content/uploads/2018/08/owb-o-verdi01.jpg
END:VEVENT
BEGIN:VEVENT
DTSTART;TZID=Europe/Vienna:20260628T150000
DTEND;TZID=Europe/Vienna:20260628T170000
DTSTAMP:20260420T105117
CREATED:20260107T095224Z
LAST-MODIFIED:20260107T095224Z
UID:22856-1782658800-1782666000@www.owb.at
SUMMARY:Grillfest und passende Weine
DESCRIPTION:
URL:https://www.owb.at/event/grillfest-und-passende-weine/
LOCATION:Gasthaus Schenke zum Krebsen\, Neumarkter Str. 19\, Friesach\, Kärnten\, 9360\, Österreich
CATEGORIES:Kärnten
END:VEVENT
END:VCALENDAR