BEGIN:VCALENDAR
VERSION:2.0
PRODID:-//Österreichische Weinbruderschaft - ECPv6.11.2//NONSGML v1.0//EN
CALSCALE:GREGORIAN
METHOD:PUBLISH
X-ORIGINAL-URL:https://www.owb.at
X-WR-CALDESC:Veranstaltungen für Österreichische Weinbruderschaft
REFRESH-INTERVAL;VALUE=DURATION:PT1H
X-Robots-Tag:noindex
X-PUBLISHED-TTL:PT1H
BEGIN:VTIMEZONE
TZID:Europe/Vienna
BEGIN:DAYLIGHT
TZOFFSETFROM:+0100
TZOFFSETTO:+0200
TZNAME:CEST
DTSTART:20250330T010000
END:DAYLIGHT
BEGIN:STANDARD
TZOFFSETFROM:+0200
TZOFFSETTO:+0100
TZNAME:CET
DTSTART:20251026T010000
END:STANDARD
END:VTIMEZONE
BEGIN:VEVENT
DTSTART;TZID=Europe/Vienna:20251111T183000
DTEND;TZID=Europe/Vienna:20251111T210000
DTSTAMP:20260420T141015
CREATED:20250110T152157Z
LAST-MODIFIED:20251103T094830Z
UID:19975-1762885800-1762894800@www.owb.at
SUMMARY:November-Stammtisch | Bgld. Rotweinprobe Jg 2022/2023 (B)
DESCRIPTION:Burgenländische Rotweinprobe Jahrgänge 2022 & 2023!\nWas können wir von unseren Roten der aktuellen Jahrgänge 2022 & 2023 erwarten? 👍?  👎?\nEinlagern? Investieren? Oder doch nicht? \nKostenbeitrag für Verkostung und Brötchenbuffet an diesem Abend: € 45\,- \nDer Stammtisch findet im Weingut Friedrich in Weiden am See statt\, Beginn um 18:30. \nAnmeldung bis spätestens Samstag\, 08.11.2026!
URL:https://www.owb.at/event/nov-stammtisch-2025-b/
LOCATION:WG Friedrich\, Untere Hauptstraße 44\, Weiden am See\, Burgenland\, 7121\, Österreich
CATEGORIES:Allgemein,Burgenland
ATTACH;FMTTYPE=image/jpeg:https://www.owb.at/wp-content/uploads/2025/01/Friedrich.jpg
END:VEVENT
BEGIN:VEVENT
DTSTART;TZID=Europe/Vienna:20251115T170000
DTEND;TZID=Europe/Vienna:20251115T220000
DTSTAMP:20260420T141015
CREATED:20250903T191034Z
LAST-MODIFIED:20251021T095946Z
UID:21782-1763226000-1763244000@www.owb.at
SUMMARY:Mitgliederversammlung u. Rioja Ausbauvarianten & Gansl (W/NÖ)
DESCRIPTION:Der Komtureirat der Komturei Wien/NÖ der österreichischen Weinbruderschaft möchte euch zur statutenmäßigen jährlichen \nMitgliederversammlung\neinladen. \nIm Anschluß: \nRioja Ausbauvarianten & Gansl\n\nProgramm\nEintreffen: ab 16:45 Uhr      //     Start: 17:00 Uhr Mitgliederversammlung \nBeginn Lehrweinprobe: um ca. 17:30 Uhr \nGanslsuppe mit 2 Weißweinen \nVerkostung 3 Serien Rioja in 3 Ausbauvarianten\, dazu folgt der Hauptgang: Gansl \nNachspeise: Maroni-Dessert \n  \nKosten für Mitglieder: € 70\,– pro Person\nKosten für Gäste: € 80\,– pro Person\nBezahlung vorab mittels Banküberweisung. \nHinweis: Außerdem wollen wir darauf hinweisen\, dass bei unseren Veranstaltungen Fotos\ngemacht werden\, deren Auswahl auf unserer Website für unsere Weinbrüder\nveröffentlicht werden. Mit der Anmeldung zu einer Veranstaltung wird von den\nTeilnehmern das ausdrückliche Einverständnis gegeben\, Bilder von den Teilnehmern\nzu machen und auf der Website zu veröffentlichen.
URL:https://www.owb.at/event/rioja_gansl-wnoe25/
LOCATION:Gasthaus Pistauer\, Ravelinstrasse 3\, Wien\, Wien\, 1110\, Österreich
CATEGORIES:Allgemein,Wien und Niederösterreich
ATTACH;FMTTYPE=image/png:https://www.owb.at/wp-content/uploads/2025/09/rioja_gansl.png
END:VEVENT
BEGIN:VEVENT
DTSTART;TZID=Europe/Vienna:20251118T170000
DTEND;TZID=Europe/Vienna:20251118T170000
DTSTAMP:20260420T141015
CREATED:20250903T090101Z
LAST-MODIFIED:20250903T090315Z
UID:21729-1763485200-1763485200@www.owb.at
SUMMARY:MITGLIEDER VERSAMMLUNG 2024 (OÖ)
DESCRIPTION:Gemäß den Statuten der österreichischen Weinbruderschaft halten wir unsere jährliche Mitgliederversammlung ab. Eine gesonderte Einladung mit Tagesordnung zur Mitgliederversammlung\, die unmittelbar vor der FWP stattfinden wird\, wird fristgerecht ausgesandt werden.
URL:https://www.owb.at/event/mitgliederversammlung-2025/
LOCATION:Stadtbräu JOSEF\, Landstraße 49\, Linz\, 4020\, Österreich
CATEGORIES:Allgemein,Oberösterreich
ATTACH;FMTTYPE=image/jpeg:https://www.owb.at/wp-content/uploads/2018/08/owb-o-josef01.jpg
END:VEVENT
BEGIN:VEVENT
DTSTART;TZID=Europe/Vienna:20251118T170000
DTEND;TZID=Europe/Vienna:20251118T210000
DTSTAMP:20260420T141015
CREATED:20251016T170920Z
LAST-MODIFIED:20251016T170920Z
UID:22066-1763485200-1763499600@www.owb.at
SUMMARY:Komtureirat
DESCRIPTION:Nur für Komtureiräte
URL:https://www.owb.at/event/komtureirat/
LOCATION:Mehrl\, Kollwitzgasse\, Graz
CATEGORIES:Steiermark
ATTACH;FMTTYPE=image/jpeg:https://www.owb.at/wp-content/uploads/2024/12/IMG_3182-scaled.jpeg
END:VEVENT
BEGIN:VEVENT
DTSTART;TZID=Europe/Vienna:20251118T183000
DTEND;TZID=Europe/Vienna:20251118T183000
DTSTAMP:20260420T141015
CREATED:20250903T090356Z
LAST-MODIFIED:20250903T090605Z
UID:21732-1763490600-1763490600@www.owb.at
SUMMARY:25 Jahre danach – Österr. Rotweinjahrgang 2000 (OÖ)
DESCRIPTION:Fachweinprobe: 25 Jahre danach. Der österreichische Rotweinjahrgang 2000 präsentiert vom WB Günter W. Hager. \nPreis pro Person: € 140\,00 inkl. Menü
URL:https://www.owb.at/event/fwp-11-2025/
LOCATION:Stadtbräu JOSEF\, Landstraße 49\, Linz\, 4020\, Österreich
CATEGORIES:Allgemein,Oberösterreich
ATTACH;FMTTYPE=image/jpeg:https://www.owb.at/wp-content/uploads/2018/08/owb-o-josef01.jpg
END:VEVENT
BEGIN:VEVENT
DTSTART;TZID=Europe/Vienna:20251121T183000
DTEND;TZID=Europe/Vienna:20251121T230000
DTSTAMP:20260420T141015
CREATED:20241214T093421Z
LAST-MODIFIED:20250311T123348Z
UID:19769-1763749800-1763766000@www.owb.at
SUMMARY:Cote du Rhone (T)
DESCRIPTION:
URL:https://www.owb.at/event/cotes-du-rhone/
LOCATION:Goldener Löwe\, Kufstein\, Oberer Stadtplatz 14\, Kufstein\, Tirol\, 6330\, Österreich
CATEGORIES:Allgemein,Tirol
ATTACH;FMTTYPE=image/jpeg:https://www.owb.at/wp-content/uploads/2024/12/Unknown-1.jpeg
END:VEVENT
BEGIN:VEVENT
DTSTART;TZID=Europe/Vienna:20251123T150000
DTEND;TZID=Europe/Vienna:20251123T170000
DTSTAMP:20260420T141015
CREATED:20250109T150640Z
LAST-MODIFIED:20251110T094954Z
UID:19919-1763910000-1763917200@www.owb.at
SUMMARY:Mittelitalien (K)
DESCRIPTION:Wie Apulien im Süden so rücken nun auch die Weine der Regionen Mittelitaliens immer mehr in den Mittelpunkt des Weltinteresses. Als Vertreter dieses Gebietes wurden die Regionen Marken\, Abruzzen\, Umbrien und Latium ausgewählt. Die Weintradition geht auf Griechen\, Etrusker und Römer zurück. Dabei nimmt in der Antike der vielbesungene „Falerner“ eine herausragende Stellung ein. Aber auch die „Nachfolger“ sind Weltklasse! Im Mittelpunkt der Verkostung stehen sowohl regionstypische Rebsorten wie z.B.\, Montepulciano d`Abruzzo oder Sagrantino di Montefalco\, als auch internationale Sorten\, deren Erfolgslauf an Bolgheri erinnert. \n  \nIm Rahmen der Verkostung am 23. 11. 2025 in der Schenke zum Krebsen – von WB Dr. „Sigi“ Moser ausgerichtet – sollen Rebsorte\, Terroir\, Klima und Handschrift der Winzer am Beispiel von 12 Weinen getestet und diskutiert werden.
URL:https://www.owb.at/event/mittelitalien/
LOCATION:Gasthaus Schenke zum Krebsen\, Neumarkter Str. 19\, Friesach\, Kärnten\, 9360\, Österreich
CATEGORIES:Allgemein,Kärnten
ATTACH;FMTTYPE=image/png:https://www.owb.at/wp-content/uploads/2025/01/Bildschirmfoto-2025-11-10-um-10.48.48.png
END:VEVENT
BEGIN:VEVENT
DTSTART;TZID=Europe/Vienna:20251128T170000
DTEND;TZID=Europe/Vienna:20251128T220000
DTSTAMP:20260420T141015
CREATED:20241222T145838Z
LAST-MODIFIED:20241222T150012Z
UID:19841-1764349200-1764367200@www.owb.at
SUMMARY:Galadinner 40 Jahre Komturei Steiermark
DESCRIPTION:
URL:https://www.owb.at/event/galadinner-40-jahre-komturei-steiermark/
LOCATION:Weinbauschule Silberberg\, Kaindorf\, Steiermark\, 8430\, Österreich
CATEGORIES:Allgemein,Steiermark
ATTACH;FMTTYPE=image/jpeg:https://www.owb.at/wp-content/uploads/2019/12/PHOTO-2019-11-30-18-51-29-2.jpeg
END:VEVENT
BEGIN:VEVENT
DTSTART;TZID=Europe/Vienna:20251130T170000
DTEND;TZID=Europe/Vienna:20251130T210000
DTSTAMP:20260420T141015
CREATED:20250110T153703Z
LAST-MODIFIED:20251103T110456Z
UID:19986-1764522000-1764536400@www.owb.at
SUMMARY:Jahresausklang der Komturei Burgenland!
DESCRIPTION:Gemeinsam wollen wir das  Jahr 2025 gemütlich ausklingen lassen und uns auf das bevorstehende Weihnachtsfest einstimmen. \nIm Vordergrund dieser Veranstaltung steht dabei das gesellschaftliche\, ungezwungene Zusammenkommen\, etwas mehr Plausch und Tratsch\, statt festem Programm.\nVorab ein Gläschen Punsch\, dann warme Suppen und köstliche Schmankerl vom Buffet werden geboten\, begleitet von einer Auswahl an aktuellen Weinen unserer Weinbrüder. \nTermin: Sonntag\, 30.11.2025\, Beginn um 17:00! \nKostenbeitrag: € 35 für Weinbrüder & Begleitung\, € 50 für Gäste \n\nAnmeldung bis spätestens Samstag\, 22.11.2025!
URL:https://www.owb.at/event/bgld-jahresausklang-2025/
LOCATION:Hotel Wende\, Seestraße 40\, Neusiedl am See\, 7100\, Österreich
CATEGORIES:Allgemein,Burgenland
ATTACH;FMTTYPE=image/jpeg:https://www.owb.at/wp-content/uploads/2023/12/Jahresausklang-2023-06.jpg
END:VEVENT
BEGIN:VEVENT
DTSTART;TZID=Europe/Vienna:20251130T170000
DTEND;TZID=Europe/Vienna:20251130T210000
DTSTAMP:20260420T141015
CREATED:20260119T073853Z
LAST-MODIFIED:20260119T073853Z
UID:22962-1764522000-1764536400@www.owb.at
SUMMARY:Jahresausklang der Komturei Burgenland!
DESCRIPTION:Gemeinsam wollen wir das  Jahr 2026 gemütlich ausklingen lassen und uns auf das bevorstehende Weihnachtsfest einstimmen. \nIm Vordergrund dieser Veranstaltung steht dabei das gesellschaftliche\, ungezwungene Zusammenkommen\, etwas mehr Plausch und Tratsch\, statt festem Programm.\nVorab ein Gläschen Punsch\, dann warme Suppen und köstliche Schmankerl vom Buffet werden geboten. \nTermin: Sonntag\, 29.11.2026\, Beginn um 17:00!
URL:https://www.owb.at/event/bgld-jahresausklang-2026/
LOCATION:Hotel Wende\, Seestraße 40\, Neusiedl am See\, 7100\, Österreich
CATEGORIES:Allgemein,Burgenland
ATTACH;FMTTYPE=image/jpeg:https://www.owb.at/wp-content/uploads/2023/12/Jahresausklang-2023-06.jpg
END:VEVENT
END:VCALENDAR