BEGIN:VCALENDAR
VERSION:2.0
PRODID:-//Österreichische Weinbruderschaft - ECPv6.11.2//NONSGML v1.0//EN
CALSCALE:GREGORIAN
METHOD:PUBLISH
X-WR-CALNAME:Österreichische Weinbruderschaft
X-ORIGINAL-URL:https://www.owb.at
X-WR-CALDESC:Veranstaltungen für Österreichische Weinbruderschaft
REFRESH-INTERVAL;VALUE=DURATION:PT1H
X-Robots-Tag:noindex
X-PUBLISHED-TTL:PT1H
BEGIN:VTIMEZONE
TZID:Europe/Vienna
BEGIN:DAYLIGHT
TZOFFSETFROM:+0100
TZOFFSETTO:+0200
TZNAME:CEST
DTSTART:20250330T010000
END:DAYLIGHT
BEGIN:STANDARD
TZOFFSETFROM:+0200
TZOFFSETTO:+0100
TZNAME:CET
DTSTART:20251026T010000
END:STANDARD
END:VTIMEZONE
BEGIN:VEVENT
DTSTART;TZID=Europe/Vienna:20250909T183000
DTEND;TZID=Europe/Vienna:20250909T210000
DTSTAMP:20260420T170652
CREATED:20250110T140834Z
LAST-MODIFIED:20250821T101659Z
UID:19972-1757442600-1757451600@www.owb.at
SUMMARY:September-Stammtisch | Welschriesling - der Alleskönner! (B)
DESCRIPTION:Welschriesling – der Alleskönner!\nDer Welschriesling ist eine extrem vielseitige Rebsorte. Vom Sektgrundwein\, über trockene\, animierende Jungweine\, bis hin zu hochwertigen\, edelsüßen Trockenbeerenauslesen reicht die Bandbreite. \n„Man reiche uns an diesem Abend nicht nur den Spritzwein!“ ;-) \nSorgfältig vorbereitet hat diesen Abend unser Komturei-Sekretär Ing. Mag. Michael Theuritzbacher\, MBA\, der neben 18 Welschrieslingen speziell für die Rotweinliebhaber ein paar Schmankerl mitbringen wird. \nDieser Stammtisch findet im Hotel Wende statt. \nKostenbeitrag für die Weinprobe ist € 35\,- inkl. sonstiger Getränke. \nBeginn um 18:30. \nFür diese Veranstaltung stehen 20 Plätze zur Verfügung\, danach Warteliste!
URL:https://www.owb.at/event/sept25-stammtisch-b/
LOCATION:Hotel Wende\, Seestraße 40\, Neusiedl am See\, 7100\, Österreich
CATEGORIES:Allgemein,Burgenland
ATTACH;FMTTYPE=image/jpeg:https://www.owb.at/wp-content/uploads/2018/07/ÖWB@Hotel-Wende.jpg
END:VEVENT
BEGIN:VEVENT
DTSTART;TZID=Europe/Vienna:20250913T170000
DTEND;TZID=Europe/Vienna:20250913T220000
DTSTAMP:20260420T170652
CREATED:20250903T185548Z
LAST-MODIFIED:20250903T185548Z
UID:21773-1757782800-1757800800@www.owb.at
SUMMARY:Autochthone Weine International (W/NÖ)
DESCRIPTION:Autochthone Weine International\n\nDer Komtureirat der Komturei Wien Niederösterreich der Österreichischen Weinbruderschaft freut sich zu folgender Veranstaltung die Weinbrüder mit ihrer Begleitung sowie Gäste begrüßen zu dürfen. \nProgramm\n17:00 Uhr\nWir beginnen mit einem Sekt\,\ndanach 5 Weißweine\,\n11 Rotweine\nund ein Süßwein. \nFolgende Länder vertreten:\nSlowenien\nSchweiz\nGriechenland\nFrankreich\nItalien\nSpanien\ndie Inseln Sizilien und Sardinien \n  \nBelegte Brötchen zum Sekt\, Mineral-/Wasser und Gebäck sind inkludiert.\nDas Essen\, Kaffee und andere Getränke werden von jedem individuell bestellt und\nsind selbst zu bezahlen. \n  \nKosten für Mitglieder: € 55\,– pro Person\nKosten für Gäste: € 65\,– pro Person\nBezahlung vorab mittels Banküberweisung.\nSpeisen werden aus einer kleinen Karte gewählt und direkt mit dem Restaurant verrechnet. \nHinweis: Außerdem wollen wir darauf hinweisen\, dass bei unseren Veranstaltungen Fotos\ngemacht werden\, deren Auswahl auf unserer Website für unsere Weinbrüder\nveröffentlicht werden. Mit der Anmeldung zu einer Veranstaltung wird von den\nTeilnehmern das ausdrückliche Einverständnis gegeben\, Bilder von den Teilnehmern\nzu machen und auf der Website zu veröffentlichen.
URL:https://www.owb.at/event/int_authochthon-wno25/
LOCATION:Plutzer Bräu\, Schrankgasse 2\, Wien\, Wien\, 1070
CATEGORIES:Allgemein,Wien und Niederösterreich
ATTACH;FMTTYPE=image/png:https://www.owb.at/wp-content/uploads/2025/09/Int_Wein.png
END:VEVENT
BEGIN:VEVENT
DTSTART;TZID=Europe/Vienna:20250921T150000
DTEND;TZID=Europe/Vienna:20250921T170000
DTSTAMP:20260420T170652
CREATED:20250109T150524Z
LAST-MODIFIED:20250910T085459Z
UID:19913-1758466800-1758474000@www.owb.at
SUMMARY:Burgunder international (K)
DESCRIPTION:Aufgrund eines besonderen Anlasses wird unser VK Dr. Fritz Seidl herausragende Weine aus den Burgundersorten Chardonnay und Pinot Noir am Sonntag\, den 21. September 2025\, in der Schenke zum Krebsen in Friesach\, präsentieren. Passend zum Thema werden wir mit zwei Champagner starten und den Verkostungsbogen auch von Kalifornien bis nach Neuseeland spannen. Mehr sei nicht verraten.\nWir hoffen auf zahlreiche Teilnahme an diesem vinophilen Ereignis.
URL:https://www.owb.at/event/burgunder-international-2/
LOCATION:Gasthaus Schenke zum Krebsen\, Neumarkter Str. 19\, Friesach\, Kärnten\, 9360\, Österreich
CATEGORIES:Allgemein,Kärnten
ATTACH;FMTTYPE=image/png:https://www.owb.at/wp-content/uploads/2025/01/burgunder.png
END:VEVENT
BEGIN:VEVENT
DTSTART;TZID=Europe/Vienna:20250923T183000
DTEND;TZID=Europe/Vienna:20250923T183000
DTSTAMP:20260420T170652
CREATED:20250903T085225Z
LAST-MODIFIED:20250903T085634Z
UID:21722-1758652200-1758652200@www.owb.at
SUMMARY:Sake (OÖ)
DESCRIPTION:Fachweinprobe: Sake-Spezialist und Diplomsommelier Richard Aichwalder präsentiert eine erlesene Auswahl hochwertiger Premium-Sake.\nNach einer kompakten theoretischen Einführung erkunden wir gemeinsam die Vielfalt unterschiedlicher Stile – begleitet von ausgewählten Gerichten aus der Josef-Küche. \nPreis pro Person: € 170\,00 inkl. Menü
URL:https://www.owb.at/event/fwp-09-2025/
LOCATION:Stadtbräu JOSEF\, Landstraße 49\, Linz\, 4020\, Österreich
CATEGORIES:Allgemein,Oberösterreich
ATTACH;FMTTYPE=image/jpeg:https://www.owb.at/wp-content/uploads/2018/08/owb-o-josef01.jpg
END:VEVENT
BEGIN:VEVENT
DTSTART;TZID=Europe/Vienna:20250926T170000
DTEND;TZID=Europe/Vienna:20250926T220000
DTSTAMP:20260420T170652
CREATED:20241222T144819Z
LAST-MODIFIED:20250311T120000Z
UID:19837-1758906000-1758924000@www.owb.at
SUMMARY:Riesling international (St)
DESCRIPTION:
URL:https://www.owb.at/event/riesling-international/
LOCATION:Ferl’s Weinstube\, Burggasse 10\, Graz\, Steiermark\, 8010\, Österreich
CATEGORIES:Allgemein,Steiermark
ATTACH;FMTTYPE=image/jpeg:https://www.owb.at/wp-content/uploads/2023/05/IMG_0153-scaled.jpg
END:VEVENT
BEGIN:VEVENT
DTSTART;TZID=Europe/Vienna:20250926T183000
DTEND;TZID=Europe/Vienna:20250926T230000
DTSTAMP:20260420T170652
CREATED:20241214T091057Z
LAST-MODIFIED:20250311T123229Z
UID:19758-1758911400-1758927600@www.owb.at
SUMMARY:Die Weinwelt der Familie Antinori(T)
DESCRIPTION:
URL:https://www.owb.at/event/die-weinwelt-der-familie-antinori/
LOCATION:Goldener Löwe\, Kufstein\, Oberer Stadtplatz 14\, Kufstein\, Tirol\, 6330\, Österreich
CATEGORIES:Allgemein,Tirol
ATTACH;FMTTYPE=image/jpeg:https://www.owb.at/wp-content/uploads/2024/12/Unknown-1.jpeg
END:VEVENT
END:VCALENDAR