BEGIN:VCALENDAR
VERSION:2.0
PRODID:-//Österreichische Weinbruderschaft - ECPv6.11.2//NONSGML v1.0//EN
CALSCALE:GREGORIAN
METHOD:PUBLISH
X-WR-CALNAME:Österreichische Weinbruderschaft
X-ORIGINAL-URL:https://www.owb.at
X-WR-CALDESC:Veranstaltungen für Österreichische Weinbruderschaft
REFRESH-INTERVAL;VALUE=DURATION:PT1H
X-Robots-Tag:noindex
X-PUBLISHED-TTL:PT1H
BEGIN:VTIMEZONE
TZID:Europe/Vienna
BEGIN:DAYLIGHT
TZOFFSETFROM:+0100
TZOFFSETTO:+0200
TZNAME:CEST
DTSTART:20250330T010000
END:DAYLIGHT
BEGIN:STANDARD
TZOFFSETFROM:+0200
TZOFFSETTO:+0100
TZNAME:CET
DTSTART:20251026T010000
END:STANDARD
END:VTIMEZONE
BEGIN:VEVENT
DTSTART;VALUE=DATE:20250704
DTEND;VALUE=DATE:20250706
DTSTAMP:20260420T195945
CREATED:20250114T190305Z
LAST-MODIFIED:20250114T190305Z
UID:20007-1751587200-1751759999@www.owb.at
SUMMARY:Sommerfest 2025 in das Kremstal (W/NÖ)
DESCRIPTION:Der Komtureirat der Komturei Wien Niederösterreich\nDer Österreichischen Weinbruderschaft\nfreut sich\nzum diesjährigen\nSommerfest in das Kremstal\nder Komturei Wien NÖ\nvon Freitag\, 04. Juli bis Samstag\, 05. Juli 2025\n(Busreise)\neinzuladen.\nWir freuen uns\, zu dieser Veranstaltung die Weinbrüder mit ihrer Begleitung\nsowie Gäste begrüßen zu dürfen. \nHinweis: Bei unseren Veranstaltungen werden Fotos gemacht werden\, von denen eine Auswahl auf unserer Website für unsere Weinbrüder veröffentlicht werden. Mit der Anmeldung zu einer Veranstaltung wird von den Teilnehmern das ausdrückliche Einverständnis gegeben\, Bilder von den Teilnehmern zu machen und auf der Website zu veröffentlichen.
URL:https://www.owb.at/event/sommerfest-2025-wno/
LOCATION:Tirol
CATEGORIES:Allgemein,Wien und Niederösterreich
ATTACH;FMTTYPE=image/png:https://www.owb.at/wp-content/uploads/2025/01/kremstal.png
END:VEVENT
BEGIN:VEVENT
DTSTART;VALUE=DATE:20250705
DTEND;VALUE=DATE:20250706
DTSTAMP:20260420T195945
CREATED:20241214T073657Z
LAST-MODIFIED:20250311T123008Z
UID:19748-1751673600-1751759999@www.owb.at
SUMMARY:"Golfen und Wein" (T)
DESCRIPTION:
URL:https://www.owb.at/event/golfen-und-wein/
LOCATION:Ellmau
CATEGORIES:Allgemein,Tirol
ATTACH;FMTTYPE=image/jpeg:https://www.owb.at/wp-content/uploads/2024/12/golfclub-wilder-kaiser-ellmau_004946_1200-1200-60-0-0-0.jpg
END:VEVENT
BEGIN:VEVENT
DTSTART;TZID=Europe/Vienna:20250711T180000
DTEND;TZID=Europe/Vienna:20250711T220000
DTSTAMP:20260420T195945
CREATED:20241222T144350Z
LAST-MODIFIED:20250311T120052Z
UID:19834-1752256800-1752271200@www.owb.at
SUMMARY:Verlockende italienische Perlen - Prosecco\, Lambrusco\, Franciacorta (St)
DESCRIPTION:
URL:https://www.owb.at/event/verlockende-italienische-perlen-prosecco-lambrusco-franciacorta/
LOCATION:Ferl’s Weinstube\, Burggasse 10\, Graz\, Steiermark\, 8010\, Österreich
CATEGORIES:Allgemein,Steiermark
ATTACH;FMTTYPE=image/jpeg:https://www.owb.at/wp-content/uploads/2023/07/IMG_0887-scaled.jpg
ORGANIZER;CN="Peter Brunnarius":MAILTO:peterbru007@gmail.com
END:VEVENT
BEGIN:VEVENT
DTSTART;VALUE=DATE:20250724
DTEND;VALUE=DATE:20250725
DTSTAMP:20260420T195945
CREATED:20250312T122027Z
LAST-MODIFIED:20250312T122027Z
UID:20396-1753315200-1753401599@www.owb.at
SUMMARY:Sommertreff 2025 (S)
DESCRIPTION:Bitte diesen Termin für unseren Sommertreff vormerken! \nEine Einladung folgt.
URL:https://www.owb.at/event/sommertreff_2025-s/
LOCATION:Reiterhof Moos\, Moosstraße 135\, Salzburg\, 5020\, Österreich
CATEGORIES:Allgemein,Salzburg
ATTACH;FMTTYPE=image/png:https://www.owb.at/wp-content/uploads/2018/03/wappen-salzburg.png
END:VEVENT
BEGIN:VEVENT
DTSTART;TZID=Europe/Vienna:20250731T170000
DTEND;TZID=Europe/Vienna:20250731T170000
DTSTAMP:20260420T195945
CREATED:20241205T090313Z
LAST-MODIFIED:20260217T145718Z
UID:19437-1753981200-1753981200@www.owb.at
SUMMARY:Sommerweinfest im JOSEF (OÖ)
DESCRIPTION:Unsere Weinbrüder Günter W. Hager und Michael Schenkenfelder laden herzlich zum Sommerfest im JOSEF Gastgarten ein. \nAnmeldung ist unbedingt erforderlich per Mail an: office@owb-komturei-ooe.at \nDer Eintritt ist für Dich und eine Begleitperson kostenlos.
URL:https://www.owb.at/event/sommerfest-07-2025/
LOCATION:Stadtbräu JOSEF\, Landstraße 49\, Linz\, 4020\, Österreich
CATEGORIES:Allgemein,Oberösterreich
ATTACH;FMTTYPE=image/jpeg:https://www.owb.at/wp-content/uploads/2018/08/owb-o-josef01.jpg
END:VEVENT
BEGIN:VEVENT
DTSTART;TZID=Europe/Vienna:20250731T180000
DTEND;TZID=Europe/Vienna:20250731T180000
DTSTAMP:20260420T195945
CREATED:20250109T150346Z
LAST-MODIFIED:20250722T114346Z
UID:19907-1753984800-1753984800@www.owb.at
SUMMARY:Sommertreff auf der Seewiese (K)
DESCRIPTION:Für die kommenden Veranstaltung im Weingarten Seewiese der Landeshauptstadt Klagenfurt am Donnerstag\, den 31.Juli 2025\, hat KS Horst Wild zuerst eine Auswahl der aktuellen Kärntner Landessieger und danach einige seiner eigenen Rotweine – teilweise etwas gereift – vorbereitet. Aus dieser Verkostung werden wir die faszinierende Leidenschaft unserer Kärntner Winzer\, mit der sie ihre Weine produzieren\, miterleben können.
URL:https://www.owb.at/event/sommertreff-auf-der-seewiese-3/
LOCATION:Weingarten Seewiese\, Klagenfurt
CATEGORIES:Allgemein,Kärnten
ATTACH;FMTTYPE=image/png:https://www.owb.at/wp-content/uploads/2025/01/Bildschirmfoto-2025-07-22-um-13.40.56.png
END:VEVENT
END:VCALENDAR