BEGIN:VCALENDAR
VERSION:2.0
PRODID:-//Österreichische Weinbruderschaft - ECPv6.11.2//NONSGML v1.0//EN
CALSCALE:GREGORIAN
METHOD:PUBLISH
X-WR-CALNAME:Österreichische Weinbruderschaft
X-ORIGINAL-URL:https://www.owb.at
X-WR-CALDESC:Veranstaltungen für Österreichische Weinbruderschaft
REFRESH-INTERVAL;VALUE=DURATION:PT1H
X-Robots-Tag:noindex
X-PUBLISHED-TTL:PT1H
BEGIN:VTIMEZONE
TZID:Europe/Vienna
BEGIN:DAYLIGHT
TZOFFSETFROM:+0100
TZOFFSETTO:+0200
TZNAME:CEST
DTSTART:20250330T010000
END:DAYLIGHT
BEGIN:STANDARD
TZOFFSETFROM:+0200
TZOFFSETTO:+0100
TZNAME:CET
DTSTART:20251026T010000
END:STANDARD
END:VTIMEZONE
BEGIN:VEVENT
DTSTART;TZID=Europe/Vienna:20250502T183000
DTEND;TZID=Europe/Vienna:20250502T230000
DTSTAMP:20260420T231705
CREATED:20241214T070425Z
LAST-MODIFIED:20250311T122909Z
UID:19731-1746210600-1746226800@www.owb.at
SUMMARY:(Nobel)-Heuriger "Mit Wiener Weinen" (T)
DESCRIPTION:
URL:https://www.owb.at/event/heuriger-mit-wiener-weinen/
LOCATION:Goldener Löwe\, Kufstein\, Oberer Stadtplatz 14\, Kufstein\, Tirol\, 6330\, Österreich
CATEGORIES:Allgemein,Tirol
ATTACH;FMTTYPE=image/png:https://www.owb.at/wp-content/uploads/2020/06/Bildschirmfoto-2020-06-08-um-16.04.37.png
END:VEVENT
BEGIN:VEVENT
DTSTART;TZID=Europe/Vienna:20250510T170000
DTEND;TZID=Europe/Vienna:20250510T220000
DTSTAMP:20260420T231705
CREATED:20241222T142438Z
LAST-MODIFIED:20250311T122016Z
UID:19823-1746896400-1746914400@www.owb.at
SUMMARY:Ordensfest 2025
DESCRIPTION:Ordensfest 2025 der Österreichischen Weinbruderschaft\, gestaltet von der Komturei Salzburg!
URL:https://www.owb.at/event/ordensfest-2/
LOCATION:Salzburg
CATEGORIES:Allgemein,Burgenland,Kärnten,Oberösterreich,Salzburg,Steiermark,Tirol,Wien und Niederösterreich
ATTACH;FMTTYPE=image/jpeg:https://www.owb.at/wp-content/uploads/2024/06/Zeremonie 2024 00023.jpg
END:VEVENT
BEGIN:VEVENT
DTSTART;VALUE=DATE:20250515
DTEND;VALUE=DATE:20250519
DTSTAMP:20260420T231705
CREATED:20241214T071314Z
LAST-MODIFIED:20250311T122531Z
UID:19740-1747267200-1747612799@www.owb.at
SUMMARY:Weinreise "Elsass-Kaiserstuhl" (T)
DESCRIPTION:
URL:https://www.owb.at/event/weinreise-elsass-kaiserstuhl/
LOCATION:Elsass
CATEGORIES:Allgemein,Tirol
ATTACH;FMTTYPE=image/webp:https://www.owb.at/wp-content/uploads/2024/12/Kaiserstuhl-Sehenswuerdigkeiten-Landschaft.jpeg.webp
END:VEVENT
BEGIN:VEVENT
DTSTART;TZID=Europe/Vienna:20250520T183000
DTEND;TZID=Europe/Vienna:20250520T210000
DTSTAMP:20260420T231705
CREATED:20250110T134741Z
LAST-MODIFIED:20250518T071352Z
UID:19963-1747765800-1747774800@www.owb.at
SUMMARY:Mai-Stammtisch | Genuss in Rosa! (B)
DESCRIPTION:Genuss in Rosa!\n„Roséwein erfreut sich dank seiner Frische\, seiner duftigen bis würzigen Aromen und seiner animierenden Farbe zunehmender Beliebtheit. Den Ruf als „nicht Fisch\, nicht Fleisch“ hat er längst überwunden.“ (ÖWM) \nKurz vor den heißen Sommernächten wollen wir uns diesem spannenden Thema widmen und dabei auch einen Blick über unsere Grenzen hinweg werfen! \nDieser Stammtisch findet im Weingut Kummer-Schuster in Halbturn statt und beginnt um 18:30. \nDiese Veranstaltung ist ausgebucht!
URL:https://www.owb.at/event/mai25-stammtisch-b/
LOCATION:WG Kummer-Schuster\, Erzherzog-Friedrich-Straße 9\, Halbturn\, Burgenland\, 7131\, Österreich
CATEGORIES:Allgemein,Burgenland
ATTACH;FMTTYPE=image/jpeg:https://www.owb.at/wp-content/uploads/2025/01/KummerSchuster.jpg
END:VEVENT
BEGIN:VEVENT
DTSTART;TZID=Europe/Vienna:20250523T120000
DTEND;TZID=Europe/Vienna:20250525T170000
DTSTAMP:20260420T231705
CREATED:20241222T142920Z
LAST-MODIFIED:20250311T120138Z
UID:19827-1748001600-1748192400@www.owb.at
SUMMARY:Weinreise Leithagebirge (St)
DESCRIPTION:
URL:https://www.owb.at/event/weinreise-leithagebirge/
LOCATION:Leithagebirge
CATEGORIES:Allgemein,Steiermark
ATTACH;FMTTYPE=image/jpeg:https://www.owb.at/wp-content/uploads/2021/08/IMG_6632.jpg
END:VEVENT
BEGIN:VEVENT
DTSTART;VALUE=DATE:20250524
DTEND;VALUE=DATE:20250525
DTSTAMP:20260420T231705
CREATED:20250114T190041Z
LAST-MODIFIED:20250114T190041Z
UID:20003-1748044800-1748131199@www.owb.at
SUMMARY:Besuch am Weingut Salomon (W/NÖ)
DESCRIPTION:Besuch am Weingut Salomon \nBusfahrt nach Falkenstein\nDer Komtureirat der Komturei Wien Niederösterreich der Österreichischen Weinbruderschaft freut sich zu einem Besuch am Weingut Salomon in Falkenstein am Samstag\, 24. Mai 2025 einzuladen. \n13:00 Uhr Abfahrt mit dem Bus\nab Hotel Intercontinental\, 1010 Wien Johannesgasse 28\,\nRückkehr voraussichtlich 21:00 Uhr \nZu diesem Winzerbesuch dürfen wir die Weinbrüder mit ihrer Begleitung sowie Gäste willkommen heißen.\nWir freuen uns über Eure zahlreichen Anmeldungen.\n \nHinweis: Bei unseren Veranstaltungen werden Fotos gemacht werden\, von denen eine Auswahl auf unserer Website für unsere Weinbrüder veröffentlicht werden. Mit der Anmeldung zu einer Veranstaltung wird von den Teilnehmern das ausdrückliche Einverständnis gegeben\, Bilder von den Teilnehmern zu machen und auf der Website zu veröffentlichen.
URL:https://www.owb.at/event/winzerbesuch-salomon25/
LOCATION:Tirol
CATEGORIES:Allgemein,Wien und Niederösterreich
ATTACH;FMTTYPE=image/png:https://www.owb.at/wp-content/uploads/2025/01/salomon.png
END:VEVENT
BEGIN:VEVENT
DTSTART;TZID=Europe/Vienna:20250524T180000
DTEND;TZID=Europe/Vienna:20250524T180000
DTSTAMP:20260420T231705
CREATED:20241205T085020Z
LAST-MODIFIED:20260217T145455Z
UID:19421-1748109600-1748109600@www.owb.at
SUMMARY:Galadiner der Komturei (OÖ)
DESCRIPTION:Beim Galadiner 2025 wird uns der Topwinzer Fritz Wieninger die Ehre geben. Spitzenkoch Erich Lukas und sein Team werden uns mit einem auf die Weiß- und Rotweine abgestimmten Menü verwöhnen. \nDer Preis für das Diner mit Aperitif\, Weinbegleitung\, Mineralwasser und Mocca beträgt pro Person für Mitglieder der Weinbruderschaft und deren Begleitung € 150\,00 und für Gäste € 190\,00.\n(Details folgen noch in gesonderter Aussendung).
URL:https://www.owb.at/event/galadiner-05-2025/
LOCATION:VERDI Restaurant & Einkehr\, Pachmaayrstraße 137\, Linz\, Oberösterreich\, 4040\, Österreich
CATEGORIES:Allgemein,Oberösterreich
ATTACH;FMTTYPE=image/jpeg:https://www.owb.at/wp-content/uploads/2018/08/owb-o-verdi01.jpg
END:VEVENT
END:VCALENDAR