BEGIN:VCALENDAR
VERSION:2.0
PRODID:-//Österreichische Weinbruderschaft - ECPv6.11.2//NONSGML v1.0//EN
CALSCALE:GREGORIAN
METHOD:PUBLISH
X-WR-CALNAME:Österreichische Weinbruderschaft
X-ORIGINAL-URL:https://www.owb.at
X-WR-CALDESC:Veranstaltungen für Österreichische Weinbruderschaft
REFRESH-INTERVAL;VALUE=DURATION:PT1H
X-Robots-Tag:noindex
X-PUBLISHED-TTL:PT1H
BEGIN:VTIMEZONE
TZID:Europe/Vienna
BEGIN:DAYLIGHT
TZOFFSETFROM:+0100
TZOFFSETTO:+0200
TZNAME:CEST
DTSTART:20250330T010000
END:DAYLIGHT
BEGIN:STANDARD
TZOFFSETFROM:+0200
TZOFFSETTO:+0100
TZNAME:CET
DTSTART:20251026T010000
END:STANDARD
END:VTIMEZONE
BEGIN:VEVENT
DTSTART;TZID=Europe/Vienna:20250404T183000
DTEND;TZID=Europe/Vienna:20250404T230000
DTSTAMP:20260421T004918
CREATED:20241214T065619Z
LAST-MODIFIED:20250311T122748Z
UID:19726-1743791400-1743807600@www.owb.at
SUMMARY:BRAIDA-Giacomo Bologna (T)
DESCRIPTION:
URL:https://www.owb.at/event/braida-giacomo-bologna/
LOCATION:Goldener Löwe\, Kufstein\, Oberer Stadtplatz 14\, Kufstein\, Tirol\, 6330\, Österreich
CATEGORIES:Allgemein,Tirol
ATTACH;FMTTYPE=image/png:https://www.owb.at/wp-content/uploads/2020/06/Bildschirmfoto-2020-06-08-um-16.04.37.png
END:VEVENT
BEGIN:VEVENT
DTSTART;TZID=Europe/Vienna:20250412T170000
DTEND;TZID=Europe/Vienna:20250412T230000
DTSTAMP:20260421T004918
CREATED:20250114T185735Z
LAST-MODIFIED:20250331T195541Z
UID:19999-1744477200-1744498800@www.owb.at
SUMMARY:Lehrweinprobe Carnuntum u. Thermenregion (W/NÖ)
DESCRIPTION:Lehrweinprobe\nWeine aus Carnuntum und Thermenregion\nDer Komtureirat der Komturei Wien Niederösterreich der Österreichischen Weinbruderschaft freut sich zu einer Lehrweinprobe einzuladen. \nBeginn: 17:00 Uhr\nWir freuen uns\, zu dieser Veranstaltung\, die Weinbrüder mit ihrer Begleitungsowie Gäste begrüßen zu dürfen. \nDetails zur VeranstaltungIm Vergleich dieser Weinbaugebiete gehen wir auf die Unterschiede beim Klima (Pannonien + im Schatten des Wienerwaldes)\, auf die vorherrschenden Böden (Lehm/Löss oder kalkhaltige lehmige Kiesel/Sandböden) und die dadurch entstehenden Geschmacksunterschiede ein. Wir werden fruchtige Weißweine mit Sortenspezialitäten und rassig elegante Rotweine kosten. \nVorab die Weinliste zum gustieren:Rose:• Cuvée 2024\, Philipp Grassl\, GöttlesbrunnWeiß:• Chardonnay 2023\, DAC\, Philipp Grassl\, Göttlesbrunn• Chardonnay 2024\, DAC\, Gerhard Markowitsch\, Göttlesbrunn• Rotgipfler 2024\, Ried: vom Berg\, Alphart\, Traiskirchen• Zierfandler 2022\, Ried: Schönkirchen\, Landauer–Gisperg\, Tattendorf• Chardonnay 2022\, Reserve\, Gustav Krug\, GumpoldskirchenRot:• Sank Laurent 2022\, Franz + Christine Netzl\, Göttlesbrunn• Sankt Laurent 2019\, Reserve\, Ried Stiftsbreite\, Stift Klosterneuburg• Pinot noir 2021\, Landauer Gisperg\, Tattendorf• Blaufränkisch 2020\, Ried: Bärnreiser\, Walter Glatzer\, Göttlesbrunn• Zweigelt 2021\, Reserve\, Leo Aumann\, Tribuswinkel• Zweigelt 2021\, Bienenfresser\, Pitnauer\, Göttlesbrunn• Cuvée 2021\, Ried: Rosenberg\, Gerhard Markowitsch\, Göttlesbrunn• Cuvée 2020\, ‚Die Versuchung‘\, Gustav Krug\, Gumpoldskirchen \nDazu wird es wieder ein kaltes Buffet von unserem bewährten Caterer geben \nHinweis: Bei unseren Veranstaltungen werden Fotos gemacht werden\, von denen eine Auswahl auf unserer Website für unsere Weinbrüder veröffentlicht werden. Mit der Anmeldung zu einer Veranstaltung wird von den Teilnehmern das ausdrückliche Einverständnis gegeben\, Bilder von den Teilnehmern zu machen und auf der Website zu veröffentlichen.
URL:https://www.owb.at/event/carnuntum_thermen25/
LOCATION:Hotel Rathaus Wein und Design\, Lange Gasse 13\, Wien\, Wien\, 1080
CATEGORIES:Allgemein,Wien und Niederösterreich
ATTACH;FMTTYPE=image/png:https://www.owb.at/wp-content/uploads/2025/01/carnuntum_thermen.png
END:VEVENT
BEGIN:VEVENT
DTSTART;VALUE=DATE:20250422
DTEND;VALUE=DATE:20250423
DTSTAMP:20260421T004918
CREATED:20250312T122601Z
LAST-MODIFIED:20250312T122845Z
UID:20402-1745280000-1745366399@www.owb.at
SUMMARY:Weingut Gager (S)
DESCRIPTION:Rotweindegustation! \nBitte diesen Termin für köstliche Weine vom Weingut Gager vormerken! \nEine Einladung folgt.
URL:https://www.owb.at/event/wg_gager-s/
LOCATION:Hubertushof\, Alpenstraße 110\, Anif\, Salzburg\, 5081\, Österreich
CATEGORIES:Allgemein,Salzburg
ATTACH;FMTTYPE=image/png:https://www.owb.at/wp-content/uploads/2018/03/wappen-salzburg.png
END:VEVENT
BEGIN:VEVENT
DTSTART;TZID=Europe/Vienna:20250422T183000
DTEND;TZID=Europe/Vienna:20250422T183000
DTSTAMP:20260421T004918
CREATED:20241205T084309Z
LAST-MODIFIED:20260217T150342Z
UID:19417-1745346600-1745346600@www.owb.at
SUMMARY:Château Musar (OÖ)
DESCRIPTION:Fachweinprobe: Auf Château Musar in der Bekaa-Ebene (Libanon) werden sehr reifefähige Rotweine aus Carignan\, Cinsault und Cabernet- Sauvignon erzeugt\, die irgendwo zwischen Rhône und Bordeaux pendeln\, Wir verkosten aus dem Keller von Weinbruder Franz Leidenmühler eine Vertikale der roten Cuvée (1997-2016)\, ergänzt durch gereifte Weißweine aus den autochthonen Sorten Obaideh und Merwah.\n[Begrenzung auf 18 Teilnehmer!] \nPreis pro Person: € 180\,00 inkl. Menü
URL:https://www.owb.at/event/fwp-04-2025/
LOCATION:Stadtbräu JOSEF\, Landstraße 49\, Linz\, 4020\, Österreich
CATEGORIES:Allgemein,Oberösterreich
ATTACH;FMTTYPE=image/jpeg:https://www.owb.at/wp-content/uploads/2018/08/owb-o-josef01.jpg
END:VEVENT
BEGIN:VEVENT
DTSTART;TZID=Europe/Vienna:20250425T180000
DTEND;TZID=Europe/Vienna:20250425T220000
DTSTAMP:20260421T004918
CREATED:20241222T142057Z
LAST-MODIFIED:20250311T120220Z
UID:19820-1745604000-1745618400@www.owb.at
SUMMARY:Weiß und Rot - eine Reise um die Welt (St)
DESCRIPTION:
URL:https://www.owb.at/event/weiss-und-rot-eine-reise-um-die-welt/
LOCATION:Ferl’s Weinstube\, Burggasse 10\, Graz\, Steiermark\, 8010\, Österreich
CATEGORIES:Allgemein,Steiermark
ATTACH;FMTTYPE=image/jpeg:https://www.owb.at/wp-content/uploads/2022/02/IMG_7601.jpg
ORGANIZER;CN="Anton Baier":MAILTO:anton.baier@weiz.online
END:VEVENT
BEGIN:VEVENT
DTSTART;TZID=Europe/Vienna:20250427T150000
DTEND;TZID=Europe/Vienna:20250427T170000
DTSTAMP:20260421T004918
CREATED:20250109T150155Z
LAST-MODIFIED:20250420T074527Z
UID:19901-1745766000-1745773200@www.owb.at
SUMMARY:Rioja (K)
DESCRIPTION:Der als DOCa klassifizierte Weinbaubereich Rioja zählt zu Spaniens beliebtester Region für Weintouristen und feiert 2025 sein 100-jähriges Bestehen. Ein Großteil der Rebflächen von 60.000 Hektar liegt zwar in La Rioja\, doch ein Teil davon befindet sich auch in den Regionen Baskenland (Subzone Alavesa) und Navarra (Teile von Subzone Rioja Oriental). Eine spezielle Auswahl an Weinen aus allen Zonen wird uns WB Diplom-Sommelier Herbert Wastian am Sonntag\, den 27. April 2025\, in seiner Schenke zum Krebsen in Friesach präsentieren. Uns erwartet eine hochinteressante Weinverkostung\, die ergänzende Einblicke in Spaniens vielfältige Weinwelt bieten wird.
URL:https://www.owb.at/event/rioja/
LOCATION:Gasthaus Schenke zum Krebsen\, Neumarkter Str. 19\, Friesach\, Kärnten\, 9360\, Österreich
CATEGORIES:Allgemein,Kärnten
ATTACH;FMTTYPE=image/png:https://www.owb.at/wp-content/uploads/2025/01/Bildschirmfoto-2025-04-20-um-09.41.05.png
END:VEVENT
END:VCALENDAR