BEGIN:VCALENDAR
VERSION:2.0
PRODID:-//Österreichische Weinbruderschaft - ECPv6.11.2//NONSGML v1.0//EN
CALSCALE:GREGORIAN
METHOD:PUBLISH
X-WR-CALNAME:Österreichische Weinbruderschaft
X-ORIGINAL-URL:https://www.owb.at
X-WR-CALDESC:Veranstaltungen für Österreichische Weinbruderschaft
REFRESH-INTERVAL;VALUE=DURATION:PT1H
X-Robots-Tag:noindex
X-PUBLISHED-TTL:PT1H
BEGIN:VTIMEZONE
TZID:Europe/Vienna
BEGIN:DAYLIGHT
TZOFFSETFROM:+0100
TZOFFSETTO:+0200
TZNAME:CEST
DTSTART:20250330T010000
END:DAYLIGHT
BEGIN:STANDARD
TZOFFSETFROM:+0200
TZOFFSETTO:+0100
TZNAME:CET
DTSTART:20251026T010000
END:STANDARD
END:VTIMEZONE
BEGIN:VEVENT
DTSTART;TZID=Europe/Vienna:20250307T183000
DTEND;TZID=Europe/Vienna:20250307T230000
DTSTAMP:20260421T023139
CREATED:20241214T065222Z
LAST-MODIFIED:20241214T065545Z
UID:19722-1741372200-1741388400@www.owb.at
SUMMARY:Burgund (T)
DESCRIPTION:
URL:https://www.owb.at/event/burgund/
LOCATION:Goldener Löwe\, Kufstein\, Oberer Stadtplatz 14\, Kufstein\, Tirol\, 6330\, Österreich
CATEGORIES:Allgemein,Tirol
ATTACH;FMTTYPE=image/png:https://www.owb.at/wp-content/uploads/2020/06/Bildschirmfoto-2020-06-08-um-16.04.37.png
END:VEVENT
BEGIN:VEVENT
DTSTART;TZID=Europe/Vienna:20250307T183000
DTEND;TZID=Europe/Vienna:20250307T230000
DTSTAMP:20260421T023139
CREATED:20241214T065615Z
LAST-MODIFIED:20241214T065615Z
UID:19725-1741372200-1741388400@www.owb.at
SUMMARY:Burgund (T)
DESCRIPTION:
URL:https://www.owb.at/event/burgund-2/
LOCATION:Goldener Löwe\, Kufstein\, Oberer Stadtplatz 14\, Kufstein\, Tirol\, 6330\, Österreich
CATEGORIES:Allgemein,Tirol
ATTACH;FMTTYPE=image/png:https://www.owb.at/wp-content/uploads/2020/06/Bildschirmfoto-2020-06-08-um-16.04.37.png
END:VEVENT
BEGIN:VEVENT
DTSTART;TZID=Europe/Vienna:20250311T183000
DTEND;TZID=Europe/Vienna:20250311T210000
DTSTAMP:20260421T023139
CREATED:20250110T133640Z
LAST-MODIFIED:20250311T120917Z
UID:19956-1741717800-1741726800@www.owb.at
SUMMARY:März-Stammtisch | Gebietstypische Qualitätsweine - DAC (B)
DESCRIPTION:Gebietstypische Qualitätsweine (DAC)\n„DAC“ steht für „Districtus Austriae Controllatus“ und ist das gesetzliche Kürzel für besonders gebietstypische österreichische Qualitätsweine.\nWenn also auf einem Weinetikett unmittelbar nach dem Namen eines Weinbaugebiets die Buchstabenkombination „DAC“ steht \, handelt es sich um einen Wein mit unverwechselbarer Gebietscharakteristik. Wirklich unverwechselbar? \nDieser Stammtisch findet bei unserem Weinbruder Hans Preschitz in Neusiedl statt und beginnt um 18:30. \nKostenbeitrag an diesem Abend: € 45\,- für Speisen\, Weinbegleitung und Verkostung \nAnmeldung bis spätestens Donnerstag\, 9. März 2025!
URL:https://www.owb.at/event/maerz25-stammtisch-b/
LOCATION:Buschenschank Preschitz\, Kalvarienbergstraße 29\, Neusiedl am See\, Burgenland\, 7100\, Österreich
CATEGORIES:Allgemein,Burgenland
ATTACH;FMTTYPE=image/jpeg:https://www.owb.at/wp-content/uploads/2024/01/Preschitz.jpeg
END:VEVENT
BEGIN:VEVENT
DTSTART;TZID=Europe/Vienna:20250316T153000
DTEND;TZID=Europe/Vienna:20250316T210000
DTSTAMP:20260421T023139
CREATED:20241213T163418Z
LAST-MODIFIED:20250308T111229Z
UID:19707-1742139000-1742158800@www.owb.at
SUMMARY:Südfrankreich Languedoc\, Roussillon und Co. (W/NÖ)
DESCRIPTION:Der Komtureirat der Komturei Wien Niederösterreich\nder\nÖsterreichischen Weinbruderschaft\nfreut sich\nzur Veranstaltung\nSüdfrankreich\nLanguedoc\, Roussillon und Co.\nim Gasthaus Floh \neinzuladen. \nStart: 15:30 Uhr \nProgramm \nDas Rhonetal gilt als ältestes Weinbaugebiet Frankreichs. Im Süden bringen Grenache\, Syrah und Mouvedre in verschiedenen Cuvees tiefgründige wunderbare Weine. Da gibt’s nur eines: Augen schließen und genießen! \nVorab die Weinliste zum gustieren:1 Jura\, Cremant Brut–nature\, “Indigene”\, Fam. Tissot\, aus Trousseau\, Chardonnay\, Pinot noit und Poulsard2 Pays d Herault\, 2021\, Mas Julien blanc–\, Languedoc\, aus Grenache blanc und Carignan blanc3 AOP– Lirac\, 2020\, Clos du Mont Rosé–\, Rhone Sud\, aus 100% Mourvédre4 Rasteau\, 2020\, Domaine des Escarvailes\, Les Coteaux–\, Rhone Sud\, aus Grenache und Syrah5 Cotes de Ventoux\, 2021\, Domaine Fondreche–\, Rhone Sud\, aus Garnacha\, Syrah und Monastrell6 Costieres de Nimes\, 2020\, Chateau Paul Blanc–\, Rhone Sud\, aus Grenache\, Syrah und Mourvédre7 Rasteau\, 2019\, Elodie Balme–\, Rhone Sud\, aus Grenache\, Carignan und Syrah8 Chateauneuf du Pape\, 2019\, Clos du Mont Olivet–\, Rhone Sud\, aus Grenache\, Syrah\, Mourvédre und Cinsault9 Costieres de Nimes\, 2020\, Mas de Bressades\, Les 2 Massies–\, Rhone Sud\, aus 100% Syrah10 Madiran\, 1998\, Chateau Montus– Prestige–\, Sud Ouest\, Magnum\, aus 100%Tannat \nDazu wird uns das Team vom Floh wieder in bewährter Weise mit Apperitiv\, Finger-food und einem Top–Menü verwöhnen. \n\nDie öffentliche Anfahrt nach Langenlebarn kann mit derSchnellbahn S 40 erfolgen.Ab Wien Franz–Josefsbahnhof 14:37 Uhr – Heiligenstadt –an Langenlebarn 15:14 UhrAb dem Bahnhof Langenlebarn wird ein Shuttle–Service die Gäste zum Restaurant bringen \nFür die Rückfahrt zum Bahnhof steht ebenfalls ein Taxi zur Verfügung\, Züge nachWien gehen etwa alle 30 Minuten. \nHinweis: Bei unseren Veranstaltungen werden Fotos gemacht werden\, von denen eine Auswahl auf unserer Website für unsere Weinbrüder veröffentlicht werden. Mit der Anmeldung zu einer Veranstaltung wird von den Teilnehmern das ausdrückliche Einverständnis gegeben\, Bilder von den Teilnehmern zu machen und auf der Website zu veröffentlichen.
URL:https://www.owb.at/event/languedocroussillon25/
LOCATION:Gastwirtschaft Floh\, Tullnerstraße 1\, Langenlebarn\, Niederösterreich\, 3425
CATEGORIES:Allgemein,Wien und Niederösterreich
ATTACH;FMTTYPE=image/jpeg:https://www.owb.at/wp-content/uploads/2024/12/Languedoc_Roussillon.jpg
END:VEVENT
BEGIN:VEVENT
DTSTART;TZID=Europe/Vienna:20250321T170000
DTEND;TZID=Europe/Vienna:20250321T220000
DTSTAMP:20260421T023139
CREATED:20241222T141401Z
LAST-MODIFIED:20250311T120302Z
UID:19815-1742576400-1742594400@www.owb.at
SUMMARY:Osteuropa - Polen\, Rumänien\, Bulgarien etc. (St)
DESCRIPTION:
URL:https://www.owb.at/event/osteuropa-polen-rumaenien-bulgarien-etc/
LOCATION:Ferl’s Weinstube\, Burggasse 10\, Graz\, Steiermark\, 8010\, Österreich
CATEGORIES:Allgemein,Steiermark
ATTACH;FMTTYPE=image/jpeg:https://www.owb.at/wp-content/uploads/2024/10/IMG_2960-scaled.jpeg
END:VEVENT
BEGIN:VEVENT
DTSTART;VALUE=DATE:20250325
DTEND;VALUE=DATE:20250326
DTSTAMP:20260421T023139
CREATED:20250312T123055Z
LAST-MODIFIED:20250312T123055Z
UID:20410-1742860800-1742947199@www.owb.at
SUMMARY:Weingut Frescobaldi (S)
DESCRIPTION:Bitte diesen Termin für köstliche Weine vom Weingut Frescobaldi vormerken! \nEine Einladung folgt.
URL:https://www.owb.at/event/wg_frescobaldi-s/
LOCATION:Hubertushof\, Alpenstraße 110\, Anif\, Salzburg\, 5081\, Österreich
CATEGORIES:Allgemein,Salzburg
ATTACH;FMTTYPE=image/png:https://www.owb.at/wp-content/uploads/2018/03/wappen-salzburg.png
END:VEVENT
BEGIN:VEVENT
DTSTART;TZID=Europe/Vienna:20250325T183000
DTEND;TZID=Europe/Vienna:20250325T183000
DTSTAMP:20260421T023139
CREATED:20241205T083900Z
LAST-MODIFIED:20260217T150240Z
UID:19413-1742927400-1742927400@www.owb.at
SUMMARY:2006 trifft 2015 – Zwei heiße Typen aus der Wachau (OÖ)
DESCRIPTION:Fachweinprobe: Willi Schützenberger präsentiert Grüne Veltliner und Rieslinge von zwei herausragenden Wachauer Jahrgängen aus seinem Keller.\n[Begrenzung auf 18 Teilnehmer!] \nPreis pro Person: € 130\,00 inkl. Menü
URL:https://www.owb.at/event/fwp-03-2025/
LOCATION:Stadtbräu JOSEF\, Landstraße 49\, Linz\, 4020\, Österreich
CATEGORIES:Allgemein,Oberösterreich
ATTACH;FMTTYPE=image/jpeg:https://www.owb.at/wp-content/uploads/2018/08/owb-o-josef01.jpg
END:VEVENT
BEGIN:VEVENT
DTSTART;TZID=Europe/Vienna:20250330T150000
DTEND;TZID=Europe/Vienna:20250330T170000
DTSTAMP:20260421T023139
CREATED:20250109T145936Z
LAST-MODIFIED:20250311T120245Z
UID:19894-1743346800-1743354000@www.owb.at
SUMMARY:Friaul extrem (K)
DESCRIPTION:Am Sonntag\, den 30.03.2024\, werden wir um 15.00 Uhr in der Friesacher Schenke zum Krebsen das Friaul als spannendes und vielschichtiges Weinbaugebiet erleben. Obwohl weißweindominant\, zeigen auch kraftvolle\, autochthone Rotweine ihr wahres Können. Für diese spezielle Verkostung hat Sommelier WB Fabian Certov unterschiedliche Raritäten bestehend aus 5 Weißweinen\, 4 Rotweinen und einem Süßwein vorbereitet\, die der Vorgabe „extrem“ mit Sicherheit gerecht werden.
URL:https://www.owb.at/event/friaul-extrem/
LOCATION:Gasthaus Schenke zum Krebsen\, Neumarkter Str. 19\, Friesach\, Kärnten\, 9360\, Österreich
CATEGORIES:Allgemein,Kärnten
ATTACH;FMTTYPE=image/png:https://www.owb.at/wp-content/uploads/2025/01/Bildschirmfoto-2025-03-10-um-16.44.45.png
END:VEVENT
END:VCALENDAR