BEGIN:VCALENDAR
VERSION:2.0
PRODID:-//Österreichische Weinbruderschaft - ECPv6.11.2//NONSGML v1.0//EN
CALSCALE:GREGORIAN
METHOD:PUBLISH
X-WR-CALNAME:Österreichische Weinbruderschaft
X-ORIGINAL-URL:https://www.owb.at
X-WR-CALDESC:Veranstaltungen für Österreichische Weinbruderschaft
REFRESH-INTERVAL;VALUE=DURATION:PT1H
X-Robots-Tag:noindex
X-PUBLISHED-TTL:PT1H
BEGIN:VTIMEZONE
TZID:Europe/Vienna
BEGIN:DAYLIGHT
TZOFFSETFROM:+0100
TZOFFSETTO:+0200
TZNAME:CEST
DTSTART:20250330T010000
END:DAYLIGHT
BEGIN:STANDARD
TZOFFSETFROM:+0200
TZOFFSETTO:+0100
TZNAME:CET
DTSTART:20251026T010000
END:STANDARD
END:VTIMEZONE
BEGIN:VEVENT
DTSTART;TZID=Europe/Vienna:20250108T170000
DTEND;TZID=Europe/Vienna:20250108T190000
DTSTAMP:20260421T054304
CREATED:20241222T140947Z
LAST-MODIFIED:20250311T120438Z
UID:19812-1736355600-1736362800@www.owb.at
SUMMARY:Neujahrsstammtisch (St)
DESCRIPTION:
URL:https://www.owb.at/event/neujahrsstammtisch-4/
LOCATION:Vinothek Kohlbacher\, Leonhardstraße 3\, Graz\, 8010
CATEGORIES:Allgemein,Steiermark
ATTACH;FMTTYPE=image/jpeg:https://www.owb.at/wp-content/uploads/2024/02/IMG_0687-scaled.jpeg
ORGANIZER;CN="Hans Trattner":MAILTO:hansi.trattner@gmail.com
END:VEVENT
BEGIN:VEVENT
DTSTART;TZID=Europe/Vienna:20250110T183000
DTEND;TZID=Europe/Vienna:20250110T230000
DTSTAMP:20260421T054304
CREATED:20241214T064345Z
LAST-MODIFIED:20241214T064634Z
UID:19715-1736533800-1736550000@www.owb.at
SUMMARY:Mitgliederversammlung (T)
DESCRIPTION:
URL:https://www.owb.at/event/mitgliederversammlung-2/
LOCATION:Goldener Löwe\, Kufstein\, Oberer Stadtplatz 14\, Kufstein\, Tirol\, 6330\, Österreich
CATEGORIES:Allgemein,Tirol
ATTACH;FMTTYPE=image/png:https://www.owb.at/wp-content/uploads/2020/06/Bildschirmfoto-2020-06-08-um-16.04.37.png
END:VEVENT
BEGIN:VEVENT
DTSTART;TZID=Europe/Vienna:20250114T180000
DTEND;TZID=Europe/Vienna:20250114T210000
DTSTAMP:20260421T054304
CREATED:20241115T132150Z
LAST-MODIFIED:20241220T125034Z
UID:19253-1736877600-1736888400@www.owb.at
SUMMARY:Jahresversammlung & Stammtisch (B)
DESCRIPTION:Das Jahr startet mit unserer Jahresversammlung und einem extrem spannenden Thema für die erste Verkostung im neuen Jahr. \nDer Stammtisch steht unter dem Motto: “Versetzter Wein | Facettenreich | Langlebig” und für diesen hat unser Komtur eine hervorragende Serie zusammengestellt. \nBeginn der JV ist um 18:00! \nAlle Details folgen in einer E-Mail Einladung. \nAnmeldung bis spätestens Donnerstag\, 7. Januar 2025!
URL:https://www.owb.at/event/januar-2025-stammtisch-b/
LOCATION:Hotel Wende\, Seestraße 40\, Neusiedl am See\, 7100\, Österreich
CATEGORIES:Allgemein,Burgenland
ATTACH;FMTTYPE=image/jpeg:https://www.owb.at/wp-content/uploads/2024/12/JV-2024-scaled.jpg
END:VEVENT
BEGIN:VEVENT
DTSTART;TZID=Europe/Vienna:20250121T183000
DTEND;TZID=Europe/Vienna:20250121T183000
DTSTAMP:20260421T054304
CREATED:20260120T141037Z
LAST-MODIFIED:20260217T150105Z
UID:22998-1737484200-1737484200@www.owb.at
SUMMARY:Ornellaia und Sassicaia (OÖ)
DESCRIPTION:Fachweinprobe: Wir verkosten nebeneinander Vertikalen (1997 bis 2008) von zwei der berühmtesten Supertuscans.\n[Begrenzung auf 18 Teilnehmer!] \nPreis pro Person: € 250\,00 inkl. Menü
URL:https://www.owb.at/event/fwp-01-2025-2/
LOCATION:Stadtbräu JOSEF\, Landstraße 49\, Linz\, 4020\, Österreich
CATEGORIES:Allgemein,Oberösterreich
ATTACH;FMTTYPE=image/jpeg:https://www.owb.at/wp-content/uploads/2018/08/owb-o-josef01.jpg
END:VEVENT
BEGIN:VEVENT
DTSTART;TZID=Europe/Vienna:20250126T150000
DTEND;TZID=Europe/Vienna:20250126T170000
DTSTAMP:20260421T054304
CREATED:20250109T145613Z
LAST-MODIFIED:20250311T120416Z
UID:19887-1737903600-1737910800@www.owb.at
SUMMARY:Blaufränkisch – fünf Jahre später (K)
DESCRIPTION:Unser KS Horst Wild hat die Veranstaltung „Blaufränkisch aus dem Mittelburgenland“ im Jahr 2020\, damals unter strikter Einhaltung der Corona-Vorschriften\, durchgeführt. Am Sonntag\, den 26. Jänner 2025 – also 5 Jahre später\, wird ein Großteil dieser Weine auf vielseitigem Wunsch in der Schenke zum Krebsen in Friesach wiederholt verkostet\, um das Entwicklungspotenzial dieser Rebsorte mit Spannung zu erleben. Das Ergebnis ist nicht nur für uns Weinbrüder interessant\, sondern auch die Winzer erwarten sich eine entsprechende Rückmeldung. Eine höchst interessante Veranstaltung\, die wir in dieser Form noch nie hatten.
URL:https://www.owb.at/event/blaufraenkisch-fuenf-jahre-spaeter/
LOCATION:Gasthaus Schenke zum Krebsen\, Neumarkter Str. 19\, Friesach\, Kärnten\, 9360\, Österreich
CATEGORIES:Allgemein,Kärnten
END:VEVENT
END:VCALENDAR