BEGIN:VCALENDAR
VERSION:2.0
PRODID:-//Österreichische Weinbruderschaft - ECPv6.11.2//NONSGML v1.0//EN
CALSCALE:GREGORIAN
METHOD:PUBLISH
X-ORIGINAL-URL:https://www.owb.at
X-WR-CALDESC:Veranstaltungen für Österreichische Weinbruderschaft
REFRESH-INTERVAL;VALUE=DURATION:PT1H
X-Robots-Tag:noindex
X-PUBLISHED-TTL:PT1H
BEGIN:VTIMEZONE
TZID:Europe/Vienna
BEGIN:DAYLIGHT
TZOFFSETFROM:+0100
TZOFFSETTO:+0200
TZNAME:CEST
DTSTART:20240331T010000
END:DAYLIGHT
BEGIN:STANDARD
TZOFFSETFROM:+0200
TZOFFSETTO:+0100
TZNAME:CET
DTSTART:20241027T010000
END:STANDARD
END:VTIMEZONE
BEGIN:VEVENT
DTSTART;TZID=Europe/Vienna:20241201T170000
DTEND;TZID=Europe/Vienna:20241201T210000
DTSTAMP:20260421T073541
CREATED:20240126T104538Z
LAST-MODIFIED:20241113T110236Z
UID:17412-1733072400-1733086800@www.owb.at
SUMMARY:Jahresausklang der Komturei Burgenland!
DESCRIPTION:Gemeinsam wollen wir das  Jahr 2024 gemütlich ausklingen lassen und uns auf das bevorstehende Weihnachtsfest einstimmen.\nAlle Details entnehmt ihr bitte der Email-Einladung. \n\nKostenbeitrag für Weinbrüder und Partnerinnen €35\,- und für Gäste €50\,- \nBitte um Anmeldung bis spätestens Freitag\, den 22.11.2024. Aus organisatorischen Gründen können später einlangende Anmeldungen nicht berücksichtigt werden! \n\n  \n\n 
URL:https://www.owb.at/event/bgld-jahresausklang-2024/
LOCATION:Hotel Wende\, Seestraße 40\, Neusiedl am See\, 7100\, Österreich
CATEGORIES:Allgemein,Burgenland
ATTACH;FMTTYPE=image/jpeg:https://www.owb.at/wp-content/uploads/2023/12/Jahresausklang-2023-01.jpg
END:VEVENT
BEGIN:VEVENT
DTSTART;TZID=Europe/Vienna:20241205T180000
DTEND;TZID=Europe/Vienna:20241205T180000
DTSTAMP:20260421T073541
CREATED:20241024T083634Z
LAST-MODIFIED:20241219T085918Z
UID:19141-1733421600-1733421600@www.owb.at
SUMMARY:Magische Magnum Momente (OÖ)
DESCRIPTION:Außergewöhnliche und hochkarätige Magnums aus dem eigenen Keller ist auch heuer das Motto zum Jahresabschluss. \nBei Cornelia und Georg Essig erwartet uns wieder ein exklusives und kreatives Menü.\nJeder Teilnehmer stellt eine besondere und mit großem Bedacht ausgewählte Magnumflasche eines Weißwein oder Rotweins zur Verfügung. \nBitte bring den Wein direkt zur Veranstaltung mit\, möglichst optimal temperiert und Rotweins bereits vom Depot getrennt! \nDie Teilnehmerzahl ist beschränkt\, Anmeldung wie immer nur mit (bitte zeitgerechter!) Bekanntgabe deiner Magnumflasche. \nPreis pro Person: € 140\,00 für das Menü
URL:https://www.owb.at/event/fwp-12-2024/
LOCATION:Restaurant Essig´s\, Niederreithstraße 35b\, Linz\, Oberösterreich\, 4020\, Österreich
CATEGORIES:Allgemein,Oberösterreich
ATTACH;FMTTYPE=image/jpeg:https://www.owb.at/wp-content/uploads/2024/12/FWP-OOE_20241205.jpg
END:VEVENT
BEGIN:VEVENT
DTSTART;TZID=Europe/Vienna:20241207T183000
DTEND;TZID=Europe/Vienna:20241207T230000
DTSTAMP:20260421T073541
CREATED:20231228T131341Z
LAST-MODIFIED:20240110T111328Z
UID:17233-1733596200-1733612400@www.owb.at
SUMMARY:Adventfeier (T)
DESCRIPTION:
URL:https://www.owb.at/event/adventfeier/
LOCATION:Goldener Löwe\, Kufstein\, Oberer Stadtplatz 14\, Kufstein\, Tirol\, 6330\, Österreich
CATEGORIES:Allgemein,Tirol
ATTACH;FMTTYPE=image/png:https://www.owb.at/wp-content/uploads/2020/06/Bildschirmfoto-2020-06-08-um-16.04.37.png
END:VEVENT
BEGIN:VEVENT
DTSTART;TZID=Europe/Vienna:20241214T180000
DTEND;TZID=Europe/Vienna:20241214T200000
DTSTAMP:20260421T073541
CREATED:20240608T065148Z
LAST-MODIFIED:20241207T152640Z
UID:18281-1734199200-1734206400@www.owb.at
SUMMARY:Adventfeier der Komturei (K)
DESCRIPTION:Ein vinarisch vielfältiges Vereinsjahr neigt sich wieder seinem Ende zu und wir haben Grund dies in feierlicher Form zu begehen\, obwohl wir den Austritt unseres langjährigen Kellermeisters Dipl. Ing. Christian Weichsler aus der ÖWB natürlich sehr bedauern. Zur diesjährigen Adventfeier\, die wiederholt im Landgasthof Neugebauer am Samstag\, den 14.12.2024 um18:00 Uhr\, stattfinden wird\, haben sich 19 Teilnehmer angemeldet\, die einen gemütlichen Abend in familiärem Ambiente genießen werden. Mit einem mehrgängigen Menü\, den hauseigenen Weinen und mitgebrachte Magnum-Essenzen werden wir den Abend in Ruhe ausklingen lassen. \n  \nDie Komturei Kärnten wünscht allen Mitgliedern und ihren Angehörigen ein frohes Weihnachtsfest und alles Gute für das Neujahr 2025.
URL:https://www.owb.at/event/k-adventfeier-2024/
LOCATION:Landgasthaus Neugebauer\, Lölling
CATEGORIES:Allgemein,Kärnten
ATTACH;FMTTYPE=image/png:https://www.owb.at/wp-content/uploads/2024/06/Bildschirmfoto-2024-12-07-um-16.25.12.png
END:VEVENT
BEGIN:VEVENT
DTSTART;TZID=Europe/Vienna:20241227T080000
DTEND;TZID=Europe/Vienna:20241227T170000
DTSTAMP:20260421T073541
CREATED:20231119T184405Z
LAST-MODIFIED:20240110T111312Z
UID:16882-1735286400-1735318800@www.owb.at
SUMMARY:Johannesweinsegnung (St)
DESCRIPTION:
URL:https://www.owb.at/event/johannesweinsegnung-8/
LOCATION:Weinbauschule Silberberg\, Kaindorf\, Steiermark\, 8430\, Österreich
CATEGORIES:Allgemein,Steiermark
ATTACH;FMTTYPE=image/png:https://www.owb.at/wp-content/uploads/2019/12/DE_GREY_HOURS_F.26.V_ST._JOHN_THE_EVANGELIST.png
END:VEVENT
END:VCALENDAR