BEGIN:VCALENDAR
VERSION:2.0
PRODID:-//Österreichische Weinbruderschaft - ECPv6.11.2//NONSGML v1.0//EN
CALSCALE:GREGORIAN
METHOD:PUBLISH
X-ORIGINAL-URL:https://www.owb.at
X-WR-CALDESC:Veranstaltungen für Österreichische Weinbruderschaft
REFRESH-INTERVAL;VALUE=DURATION:PT1H
X-Robots-Tag:noindex
X-PUBLISHED-TTL:PT1H
BEGIN:VTIMEZONE
TZID:Europe/Vienna
BEGIN:DAYLIGHT
TZOFFSETFROM:+0100
TZOFFSETTO:+0200
TZNAME:CEST
DTSTART:20240331T010000
END:DAYLIGHT
BEGIN:STANDARD
TZOFFSETFROM:+0200
TZOFFSETTO:+0100
TZNAME:CET
DTSTART:20241027T010000
END:STANDARD
END:VTIMEZONE
BEGIN:VEVENT
DTSTART;TZID=Europe/Vienna:20241004T180000
DTEND;TZID=Europe/Vienna:20241004T230000
DTSTAMP:20260421T104035
CREATED:20231228T130721Z
LAST-MODIFIED:20240807T132339Z
UID:17226-1728064800-1728082800@www.owb.at
SUMMARY:Kulinarium (T)
DESCRIPTION:
URL:https://www.owb.at/event/kulinarium/
LOCATION:Raum Kufstein\, Josef Egger Strasse 4\, Kufstein\, Tirol\, 6330\, Österreich
CATEGORIES:Allgemein,Tirol
ATTACH;FMTTYPE=image/png:https://www.owb.at/wp-content/uploads/2018/03/wappen-tirol.png
END:VEVENT
BEGIN:VEVENT
DTSTART;TZID=Europe/Vienna:20241018T180000
DTEND;TZID=Europe/Vienna:20241018T220000
DTSTAMP:20260421T104035
CREATED:20231119T183506Z
LAST-MODIFIED:20240928T192320Z
UID:16874-1729274400-1729288800@www.owb.at
SUMMARY:Lieblingsweißburgunder hochwertig - Mitbringverkostung (St)
DESCRIPTION:
URL:https://www.owb.at/event/lieblingsweissburgunder-hochwertig-mitbringverkostung/
LOCATION:Ferl’s Weinstube\, Burggasse 10\, Graz\, Steiermark\, 8010\, Österreich
CATEGORIES:Allgemein,Steiermark
ATTACH;FMTTYPE=image/jpeg:https://www.owb.at/wp-content/uploads/2023/11/image-2.jpeg
ORGANIZER;CN="Hans Trattner":MAILTO:hansi.trattner@gmail.com
END:VEVENT
BEGIN:VEVENT
DTSTART;TZID=Europe/Vienna:20241019T170000
DTEND;TZID=Europe/Vienna:20241019T220000
DTSTAMP:20260421T104035
CREATED:20240416T201044Z
LAST-MODIFIED:20240927T124334Z
UID:17958-1729357200-1729375200@www.owb.at
SUMMARY:Mitgliederversammlung u. Verkostung Weine des Jakobsweges (W/NÖ)
DESCRIPTION:Der Komtureirat der Komturei Wien/NÖ der österreichischen Weinbruderschaft möchte euch zur statutenmäßigen jährlichen \nMitgliederversammlung\neinladen. \nEintreffen: ab 17 Uhr      //     Start: 17:30 Uhr \nIm Anschluss (ca. 18 Uhr) an die Mitgliederversammlung findet eine Lehrweinprobe zum Thema‚ Weine des spanischen Jakobsweges‘ statt. Dazu wird uns der GH Pistauer wieder sein bewährtes\, saftiges Steak-Menü servieren. \nBitte um eure Zu- oder Absage bis 14. Oktober an Manfred Eder.
URL:https://www.owb.at/event/verkostung-jakobsweg-wnoe24/
LOCATION:Gasthaus Pistauer\, Ravelinstrasse 3\, Wien\, Wien\, 1110\, Österreich
CATEGORIES:Allgemein,Wien und Niederösterreich
ATTACH;FMTTYPE=image/png:https://www.owb.at/wp-content/uploads/2024/07/jakobsweg.png
END:VEVENT
BEGIN:VEVENT
DTSTART;TZID=Europe/Vienna:20241019T170000
DTEND;TZID=Europe/Vienna:20241019T220000
DTSTAMP:20260421T104035
CREATED:20240424T154434Z
LAST-MODIFIED:20241001T150553Z
UID:18035-1729357200-1729375200@www.owb.at
SUMMARY:Herbstkulinarium 2024 (B)
DESCRIPTION:Unser Herbstkulinarium findet heuer am Samstag\, den 19. Oktober im Stadtgasthaus am Nyikospark statt! \nNeben der traditionellen Gans wird es heuer auch eine alternativ Wahl für die Hauptspeise geben. \nDie Einladung mit allen Details zu diesem Event ist per Email erfolgt. \n\nBeginn um 17:00. \nAnmeldungen bis spätestens Sonntag 12.09.2024\, unter Angabe des Menüwunsches!
URL:https://www.owb.at/event/bgld-herbstkulinarium-2024/
LOCATION:Stadtgasthaus Nyikospark
CATEGORIES:Allgemein,Burgenland
ATTACH;FMTTYPE=image/png:https://www.owb.at/wp-content/uploads/2024/04/Nyikospark.png
END:VEVENT
BEGIN:VEVENT
DTSTART;TZID=Europe/Vienna:20241020T150000
DTEND;TZID=Europe/Vienna:20241020T190000
DTSTAMP:20260421T104035
CREATED:20240608T062928Z
LAST-MODIFIED:20241013T083123Z
UID:18275-1729436400-1729450800@www.owb.at
SUMMARY:Friaul extrem (K)
DESCRIPTION:Am Sonntag\, den 20.10.2024\, werden wir um 15.00 Uhr in der Friesacher Schenke zum Krebsen das Friaul als spannendes und vielschichtiges Weinbaugebiet erleben. Obwohl weißweindominant\, zeigen auch kraftvolle\, autochthone Rotweine ihr wahres Können. Für diese spezielle Verkostung hat Sommelier WB Fabian Certov unterschiedliche Raritäten bestehend aus 5 Weißweinen\, 4 Rotweinen und einem Süßwein vorbereitet\, die der Vorgabe „extrem“ mit Sicherheit gerecht werden.
URL:https://www.owb.at/event/k-friaul-2024/
LOCATION:Gasthaus Schenke zum Krebsen\, Neumarkter Str. 19\, Friesach\, Kärnten\, 9360\, Österreich
CATEGORIES:Allgemein,Kärnten
ATTACH;FMTTYPE=image/png:https://www.owb.at/wp-content/uploads/2024/06/friaul.png
END:VEVENT
BEGIN:VEVENT
DTSTART;TZID=Europe/Vienna:20241025T183000
DTEND;TZID=Europe/Vienna:20241025T230000
DTSTAMP:20260421T104035
CREATED:20241005T143721Z
LAST-MODIFIED:20241005T144014Z
UID:19083-1729881000-1729897200@www.owb.at
SUMMARY:Grauburgunder International
DESCRIPTION:Ursprünglicher Termin 05.09.2024 18:30 konnte leider auf Grund zu weniger Teilnehmer nicht durchgeführt werden.
URL:https://www.owb.at/event/grauburgunder-international/
LOCATION:Goldener Löwe\, Kufstein\, Oberer Stadtplatz 14\, Kufstein\, Tirol\, 6330\, Österreich
CATEGORIES:Tirol
ATTACH;FMTTYPE=image/png:https://www.owb.at/wp-content/uploads/2020/06/Bildschirmfoto-2020-06-08-um-16.04.37.png
END:VEVENT
BEGIN:VEVENT
DTSTART;VALUE=DATE:20241026
DTEND;VALUE=DATE:20241103
DTSTAMP:20260421T104035
CREATED:20240416T202112Z
LAST-MODIFIED:20240722T150941Z
UID:17967-1729900800-1730591999@www.owb.at
SUMMARY:Weinreise ins Piemont (W/NÖ)
DESCRIPTION:VORANKÜNDIGUNG ++ SAVE THE DATE ++\nDer Komtureirat der Komturei Wien Niederösterreich\nDer Österreichischen Weinbruderschaft\nfreut sich zur\nWeinreise ins Piemont\nder Komturei Wien NÖ\neinzuladen.\nBegrenzte Teilnehmer Anzahl! \n 
URL:https://www.owb.at/event/weinreise-piemont-2024-wno/
LOCATION:Tirol
CATEGORIES:Allgemein,Wien und Niederösterreich
ATTACH;FMTTYPE=image/png:https://www.owb.at/wp-content/uploads/2024/07/piemont.png
END:VEVENT
BEGIN:VEVENT
DTSTART;VALUE=DATE:20241029
DTEND;VALUE=DATE:20241030
DTSTAMP:20260421T104035
CREATED:20240202T151852Z
LAST-MODIFIED:20240202T151852Z
UID:17447-1730160000-1730246399@www.owb.at
SUMMARY:Australien (S)
DESCRIPTION:Bitte diesen Termin für köstliche Weine von Penfolds & Wynns vormerken! \nEine Einladung folgt.
URL:https://www.owb.at/event/australien-s/
LOCATION:Hubertushof\, Alpenstraße 110\, Anif\, Salzburg\, 5081\, Österreich
CATEGORIES:Allgemein,Salzburg
ATTACH;FMTTYPE=image/png:https://www.owb.at/wp-content/uploads/2018/03/wappen-salzburg.png
END:VEVENT
END:VCALENDAR