BEGIN:VCALENDAR
VERSION:2.0
PRODID:-//Österreichische Weinbruderschaft - ECPv6.11.2//NONSGML v1.0//EN
CALSCALE:GREGORIAN
METHOD:PUBLISH
X-ORIGINAL-URL:https://www.owb.at
X-WR-CALDESC:Veranstaltungen für Österreichische Weinbruderschaft
REFRESH-INTERVAL;VALUE=DURATION:PT1H
X-Robots-Tag:noindex
X-PUBLISHED-TTL:PT1H
BEGIN:VTIMEZONE
TZID:Europe/Vienna
BEGIN:DAYLIGHT
TZOFFSETFROM:+0100
TZOFFSETTO:+0200
TZNAME:CEST
DTSTART:20240331T010000
END:DAYLIGHT
BEGIN:STANDARD
TZOFFSETFROM:+0200
TZOFFSETTO:+0100
TZNAME:CET
DTSTART:20241027T010000
END:STANDARD
END:VTIMEZONE
BEGIN:VEVENT
DTSTART;TZID=Europe/Vienna:20240903T183000
DTEND;TZID=Europe/Vienna:20240903T210000
DTSTAMP:20260421T121438
CREATED:20240125T164141Z
LAST-MODIFIED:20240812T104359Z
UID:17402-1725388200-1725397200@www.owb.at
SUMMARY:September-Stammtisch (B)
DESCRIPTION:Stammtisch mit Thema “3 Winzerinnen”! \nAn diesem Abend wollen wir uns mit den Weinen dreier Winzerinnen aus 3 Weinbaugebieten des Burgenlandes beschäftigen\, besonders um die individuellen Stilistiken und den Einfluss des Terroirs auf ihre Produkte.\nEin spannender Abend\, vorbereitet von KS Theuritzbacher und Team! \nDieser Stammtisch findet bei unserem Weinbruder Karl Sattler in Jois statt\, dessen Weine wir vorab bei einer Jause vorkosten werden. \n20 Plätze können vergeben werden\, Kostenbeitrag für diesen Abend: €45\,- \nBeginn um 18:30. \nAnmeldungen bis spätestens Mittwoch 28.08.2024\, bei Erreichen der maximalen Anzahl erfolgt eine dementsprechende Info hier auf unserer Homepage!
URL:https://www.owb.at/event/sept24-stammtisch-b/
LOCATION:WG Sattler-Seeblick\, Klausenberg 3\, Jois\, Burgenland\, 7093\, Österreich
CATEGORIES:Allgemein,Burgenland
ATTACH;FMTTYPE=image/jpeg:https://www.owb.at/wp-content/uploads/2024/01/Sattler.jpeg
END:VEVENT
BEGIN:VEVENT
DTSTART;TZID=Europe/Vienna:20240906T183000
DTEND;TZID=Europe/Vienna:20240906T230000
DTSTAMP:20260421T121438
CREATED:20231228T122729Z
LAST-MODIFIED:20240221T204529Z
UID:17220-1725647400-1725663600@www.owb.at
SUMMARY:Burgunder-Trilogie: Grauburgunder(T)
DESCRIPTION:
URL:https://www.owb.at/event/burgunder-trilogie-grauburgunder/
LOCATION:(Gast-) Garten/Villa Maria\, Josef Egger-Straße 4\,\, Kufstein\, Tirol\, 6330\, Österreich
CATEGORIES:Allgemein,Tirol
ATTACH;FMTTYPE=image/jpeg:https://www.owb.at/wp-content/uploads/2023/12/2021-03-29.jpeg
END:VEVENT
BEGIN:VEVENT
DTSTART;TZID=Europe/Vienna:20240920T180000
DTEND;TZID=Europe/Vienna:20240920T220000
DTSTAMP:20260421T121438
CREATED:20231119T183043Z
LAST-MODIFIED:20240110T111459Z
UID:16870-1726855200-1726869600@www.owb.at
SUMMARY:Weiß und Rot International (bis zu € 30\,--) (St)
DESCRIPTION:
URL:https://www.owb.at/event/weiss-und-rot-international-bis-zu-e-30/
LOCATION:Ferl’s Weinstube\, Burggasse 10\, Graz\, Steiermark\, 8010\, Österreich
CATEGORIES:Allgemein,Steiermark
ATTACH;FMTTYPE=image/png:https://www.owb.at/wp-content/uploads/2023/11/image-2.png
END:VEVENT
BEGIN:VEVENT
DTSTART;TZID=Europe/Vienna:20240922T153000
DTEND;TZID=Europe/Vienna:20240922T220000
DTSTAMP:20260421T121438
CREATED:20240416T200730Z
LAST-MODIFIED:20240910T164355Z
UID:17955-1727019000-1727042400@www.owb.at
SUMMARY:Verkostung Bordeauxweine (W/NÖ)
DESCRIPTION:Der Komtureirat der Komturei Wien Niederösterreich \nder Österreichischen Weinbruderschaft freut sich zu einer Verkostung einzuladen: \nBordeaux im GH Floh\nin Langenlebarn\n  \nProgramm\nFür die Anreise nach Langenlebarn mit dem Zug und den weiteren\nTransport vom Bahnhof zur Gastwirschaft Floh\nwird eine gesonderte Information erfolgen \n15:30 Uhr\nAperitif \nanschl.\nVerkostung von 14 Bordeauxweinen\n12 Weine davon werden vom Komtur DI Walter Brada aus seinem Keller\nkostenlos zur Verfügung gestellt \nanschl.\nkleines Abendessen\n–\nRückfahrt nach Wien \n  \nWir ersuchen um Eure Zu- oder Absage bis längstens 18. September 2024 \nAus Platzgründen beim Floh ist die Teilnehmeranzahl begrenzt\, die Teilnahme erfolgt daher\nnach dem Einlangen der Anmeldungen\, es wird gegebenenfalls eine Warteliste angelegt
URL:https://www.owb.at/event/verkostung-bordeaux-wnoe24/
LOCATION:Gastwirtschaft Floh\, Tullnerstraße 1\, Langenlebarn\, Niederösterreich\, 3425
CATEGORIES:Allgemein,Wien und Niederösterreich
ATTACH;FMTTYPE=image/png:https://www.owb.at/wp-content/uploads/2024/07/bordeaux.png
END:VEVENT
BEGIN:VEVENT
DTSTART;VALUE=DATE:20240924
DTEND;VALUE=DATE:20240925
DTSTAMP:20260421T121438
CREATED:20240202T151643Z
LAST-MODIFIED:20240202T151643Z
UID:17444-1727136000-1727222399@www.owb.at
SUMMARY:Wieninger & Hajszan Neumann (S)
DESCRIPTION:Bitte diesen Termin für köstliche Weine von Wieninger & Hajszan Neumann vormerken! \nEine Einladung folgt.
URL:https://www.owb.at/event/sommertreff-s-2/
LOCATION:Hubertushof\, Alpenstraße 110\, Anif\, Salzburg\, 5081\, Österreich
CATEGORIES:Allgemein,Salzburg
ATTACH;FMTTYPE=image/png:https://www.owb.at/wp-content/uploads/2018/03/wappen-salzburg.png
END:VEVENT
BEGIN:VEVENT
DTSTART;TZID=Europe/Vienna:20240926T190000
DTEND;TZID=Europe/Vienna:20240926T210000
DTSTAMP:20260421T121438
CREATED:20240608T062608Z
LAST-MODIFIED:20240909T090954Z
UID:18269-1727377200-1727384400@www.owb.at
SUMMARY:Lagrein (K)
DESCRIPTION:Seit über 600 Jahren ist in Südtirol die Rebsorte LAGREIN heimisch. Sie hat sich im Laufe der Jahrhunderte an das Mikroklima in Südtirol angepasst und wohl im\nBozner Talkessel ihre wirkliche Heimat gefunden. Charakteristische Weine\, vom  St. Magdalener über den Lagrein Kretzer bis hin zu fruchtigen\, gehaltvollen und körperreichen Reserveweinen verschiedener Jahrgänge\, hat Vizekomtur Dr. Fritz Seidl am Donnerstag\, den 26.September 2024 (19.00 Uhr)\, in der Schenke zum Krebsen in Friesach für uns vorbereitet. Zur Abrundung der Verkostung wird es zu Beginn 2 Weißweine und zum Abschluss 2 Rotwein-Cuvée geben. Wir freuen uns auf rege Teilnahme an dieser vielversprechenden Degustation. \n  \n 
URL:https://www.owb.at/event/lagrein-2024/
LOCATION:Gasthaus Schenke zum Krebsen\, Neumarkter Str. 19\, Friesach\, Kärnten\, 9360\, Österreich
CATEGORIES:Allgemein,Kärnten
ATTACH;FMTTYPE=image/png:https://www.owb.at/wp-content/uploads/2018/03/wappen-kaernten.png
END:VEVENT
END:VCALENDAR