BEGIN:VCALENDAR
VERSION:2.0
PRODID:-//Österreichische Weinbruderschaft - ECPv6.11.2//NONSGML v1.0//EN
CALSCALE:GREGORIAN
METHOD:PUBLISH
X-ORIGINAL-URL:https://www.owb.at
X-WR-CALDESC:Veranstaltungen für Österreichische Weinbruderschaft
REFRESH-INTERVAL;VALUE=DURATION:PT1H
X-Robots-Tag:noindex
X-PUBLISHED-TTL:PT1H
BEGIN:VTIMEZONE
TZID:Europe/Vienna
BEGIN:DAYLIGHT
TZOFFSETFROM:+0100
TZOFFSETTO:+0200
TZNAME:CEST
DTSTART:20240331T010000
END:DAYLIGHT
BEGIN:STANDARD
TZOFFSETFROM:+0200
TZOFFSETTO:+0100
TZNAME:CET
DTSTART:20241027T010000
END:STANDARD
END:VTIMEZONE
BEGIN:VEVENT
DTSTART;TZID=Europe/Vienna:20240801T170000
DTEND;TZID=Europe/Vienna:20240801T170000
DTSTAMP:20260421T133445
CREATED:20240116T115738Z
LAST-MODIFIED:20240116T115936Z
UID:17343-1722531600-1722531600@www.owb.at
SUMMARY:Sommerweinfest (OÖ)
DESCRIPTION:Unsere Weinbrüder Günter Hager und Michael Schenkenfelder laden herzlichst zum Sommerweinfest im JOSEF Gastgarten ein. \nAnmeldung ist unbedingt erforderlich per Mail an: office@owb-komturei-ooe.at. \nDer Eintritt ist für Dich und eine Begleitperson kostenlos.
URL:https://www.owb.at/event/sommerweinfest-2024/
LOCATION:Stadtbräu JOSEF\, Landstraße 49\, Linz\, 4020\, Österreich
CATEGORIES:Allgemein,Oberösterreich
ATTACH;FMTTYPE=image/jpeg:https://www.owb.at/wp-content/uploads/2018/08/owb-o-josef01.jpg
END:VEVENT
BEGIN:VEVENT
DTSTART;TZID=Europe/Vienna:20240809T143000
DTEND;TZID=Europe/Vienna:20240809T220000
DTSTAMP:20260421T133445
CREATED:20240714T184217Z
LAST-MODIFIED:20240807T132806Z
UID:18649-1723213800-1723240800@www.owb.at
SUMMARY:Südsteiermark (St)
DESCRIPTION:Besichtigung Weinkeller Domäne Wolf mit Kellermeister Muster und Verkostung. \nDanach Besuch Domizil WB Helmut Ledinegg mit Buschenschankjause und privater Weinverkostung
URL:https://www.owb.at/event/suedsteiermark/
LOCATION:Domäne Wolf
CATEGORIES:Allgemein,Steiermark
ATTACH;FMTTYPE=image/webp:https://www.owb.at/wp-content/uploads/2024/07/DomaineWolf1.webp
END:VEVENT
BEGIN:VEVENT
DTSTART;TZID=Europe/Vienna:20240810T150000
DTEND;TZID=Europe/Vienna:20240810T230000
DTSTAMP:20260421T133445
CREATED:20231228T121834Z
LAST-MODIFIED:20240807T132429Z
UID:17215-1723302000-1723330800@www.owb.at
SUMMARY:Sommerfest (T)
DESCRIPTION:
URL:https://www.owb.at/event/sommerfest-2/
LOCATION:Villa Maria\, Josef Egger Strasse 4\, Kufstein\, Tirol\, 6330\, Österreich
CATEGORIES:Allgemein,Tirol
ATTACH;FMTTYPE=image/png:https://www.owb.at/wp-content/uploads/2018/03/wappen-tirol.png
END:VEVENT
BEGIN:VEVENT
DTSTART;TZID=Europe/Vienna:20240822T173000
DTEND;TZID=Europe/Vienna:20240822T230000
DTSTAMP:20260421T133445
CREATED:20240414T201523Z
LAST-MODIFIED:20240530T205043Z
UID:17933-1724347800-1724367600@www.owb.at
SUMMARY:Kellergassenkulinarium in Mailberg 2024 (W/NÖ)
DESCRIPTION:Der Komtureirat der Komturei Wien Niederösterreich\nDer Österreichischen Weinbruderschaft\nfreut sich\nzum\nKellergassenkulinarium\nin Mailberg\nam Donnerstag\, 22. August 2024\neinzuladen. \nAbfahrt mit Bus um 17:45 Uhr\nab Hotel Intercontinental 1030 Wien\, Johannesgasse 28 \nWir freuen uns\, zu dieser Veranstaltung die Weinbrüder mit ihrer Begleitung\nsowie Gäste begrüßen zu dürfen. \nWir ersuchen um Eure Zu- oder Absage bis längstens 09. Juni 2024\nan Manfred Eder. \nUm einen Überblick über die Anzahl der Teilnehmer zu bekommen\,\nersuchen wir um Eure kurzfristige An- oder Abmeldung. \nVoraussichtliches Programm: \n17:45 Uhr\nAbfahrt mit dem Bus ab\nHotel Intercontinental\, 1030 Wien\, Johannesgasse 28\nFahrt nach Mailberg\nin die Kellergasse „Zipf“ \n19:00 Uhr\nStart des Kellergassenkulinariums\nEs wird uns bei dieser Veranstaltung ein gesamtes vielgängiges Menu mit den\npassenden Weinen geboten. Auch für musikalische Umrahmung des Festes ist\ngesorgt.\nWir starten in einem der Keller mit dem Aperitif und dem Amuse Gueule\,\nund werden für jeden weiteren Gang zu einem anderen Keller geleitet\, bis wir\nschließlich mit dem Dessert beim letzten Keller angelangt sind.\nIn jedem dieser Keller werden von verschiedenen gehobenen örtlichen Gastronomen\ndie einzelnen Gänge zubereitet und von örtlichen Winzern\, die jeweils dazu\npassenden regionalen Weine präsentiert.\nDabei wird Wert darauf gelegt\, auch prämierte Weine\, Salonsieger\, NÖ Landessieger\noder Sortensieger zu präsentieren \nMenu und Weine werden rechtzeitig vor der Veranstaltung bekanntgegeben. \nanschließend ca.23:00 Uhr\nRückfahrt nach Wien \n 
URL:https://www.owb.at/event/kellergassenkulinarium-2024-wno-2/
LOCATION:Tirol
CATEGORIES:Allgemein,Wien und Niederösterreich
ATTACH;FMTTYPE=image/png:https://www.owb.at/wp-content/uploads/2024/04/kellergasse_mailberg.png
END:VEVENT
BEGIN:VEVENT
DTSTART;TZID=Europe/Vienna:20240825T150000
DTEND;TZID=Europe/Vienna:20240825T220000
DTSTAMP:20260421T133445
CREATED:20240608T060322Z
LAST-MODIFIED:20240816T120157Z
UID:18265-1724598000-1724623200@www.owb.at
SUMMARY:Lieblingsweine unserer Weinbrüder (K)
DESCRIPTION:ei der nächsten Veranstaltung „Lieblingsweine unserer Weinbrüder“ am Sonntag\, den 25.August 2024 beginnend um 15.00 Uhr in der Schenke zum Krebsen in Friesach werden die vinarischen Vorlieben unserer Weinbrüder und Gäste in den Fokus rücken.  Alle Teilnehmer haben die Möglichkeit selbst Weine mitzubringen\, die keiner Gebietsbegrenzung unterliegen und unmittelbar vor Veranstaltungsbeginn in die entsprechende Verkostungsreihenfolge gebracht werden.\n\nHochspannung ist bereits spürbar
URL:https://www.owb.at/event/lieblingsweine-unserer-weinbrueder-2024/
LOCATION:Gasthaus Schenke zum Krebsen\, Neumarkter Str. 19\, Friesach\, Kärnten\, 9360\, Österreich
CATEGORIES:Allgemein,Kärnten
ATTACH;FMTTYPE=image/png:https://www.owb.at/wp-content/uploads/2024/06/Bildschirmfoto-2024-08-16-um-14.00.45.png
END:VEVENT
END:VCALENDAR