BEGIN:VCALENDAR
VERSION:2.0
PRODID:-//Österreichische Weinbruderschaft - ECPv6.11.2//NONSGML v1.0//EN
CALSCALE:GREGORIAN
METHOD:PUBLISH
X-ORIGINAL-URL:https://www.owb.at
X-WR-CALDESC:Veranstaltungen für Österreichische Weinbruderschaft
REFRESH-INTERVAL;VALUE=DURATION:PT1H
X-Robots-Tag:noindex
X-PUBLISHED-TTL:PT1H
BEGIN:VTIMEZONE
TZID:Europe/Vienna
BEGIN:DAYLIGHT
TZOFFSETFROM:+0100
TZOFFSETTO:+0200
TZNAME:CEST
DTSTART:20240331T010000
END:DAYLIGHT
BEGIN:STANDARD
TZOFFSETFROM:+0200
TZOFFSETTO:+0100
TZNAME:CET
DTSTART:20241027T010000
END:STANDARD
END:VTIMEZONE
BEGIN:VEVENT
DTSTART;TZID=Europe/Vienna:20240601T170000
DTEND;TZID=Europe/Vienna:20240601T220000
DTSTAMP:20260421T181819
CREATED:20240416T200214Z
LAST-MODIFIED:20240511T090809Z
UID:17951-1717261200-1717279200@www.owb.at
SUMMARY:Verkostung VINITALY NEWS (W/NÖ)
DESCRIPTION:EINLADUNG\nDer Komtureitat der Komturei Wien NÖ\nder Österreichischen Weinbruderschaft\nund\ndas Consiglio der Piviere di Vienna\nder Lega del Chianti\nfreuen sich\nzur gemeinsamen Veranstaltung\nVinitaly News\, etc.\nneue Jahrgänge\, neue Weine\nam 01. Juni 2024\, um 18:00 Uhr\nIm Hotel Rathaus Wein und Design\nLangegasse 13\n1080 Wien\neinzuladen. \nPROGRAMM\n18:00 Uhr\nBegrüssung und Aperitif\n18:15 Uhr\nVerkostungsbeginn\nBei dieser Verkostung werden Weine präsentiert\, die im Zuge der Besuche auf\n2 Messeveranstaltungen ausgesucht wurden\, einerseits auf der\nVinitaly in Verona\, einer der grössten Weinfachmessen Europa´s\,\nund andrerseits auf der\nFood and Hotel Asia und ProWine Asia in Singapore\, sie ist die wichtigste\nLebensmittelmesse in Südostasien.\nAuch heuer werden – wie auch bisher bei dieser Veranstaltung üblich – die Weine\nzur Selbstverkostung präsentiert\nEs werden Weine aus Italien vorgestellt\,\nhauptsächlich aus der Toskana\, dem Piemont\, Friaul\, Apulien\, Campanien\,\nKalabrien\, Sizilien und Spanien\nausführliche Verkostungsunterlagen werden beigestellt\nlaufende persönliche Infos und Beratung sind selbstverständlich\nZwischendurch werden Häppchen und Fingerfood gereicht \n  \nAnmeldung erforderlich! \nKosten für Aperitif\, Weinverkostung und Fingerfood:\n50\,– / Person für Mitglieder\n60\,– / Person für Gäste\nZahlung an Ort und Stelle erbeten
URL:https://www.owb.at/event/verkostung-vinitaly-news/
LOCATION:Hotel Rathaus Wein und Design\, Lange Gasse 13\, Wien\, Wien\, 1080
CATEGORIES:Allgemein,Wien und Niederösterreich
ATTACH;FMTTYPE=image/jpeg:https://www.owb.at/wp-content/uploads/2018/07/Vinitaly.jpg
END:VEVENT
BEGIN:VEVENT
DTSTART;VALUE=DATE:20240606
DTEND;VALUE=DATE:20240610
DTSTAMP:20260421T181819
CREATED:20240728T175957Z
LAST-MODIFIED:20240728T180115Z
UID:18793-1717632000-1717977599@www.owb.at
SUMMARY:Proseccoreise 2024 in die Weinhügel
DESCRIPTION:
URL:https://www.owb.at/event/proseccoreise-2024-in-die-weinhuegel/
LOCATION:Tirol
CATEGORIES:Allgemein,Steiermark
ATTACH;FMTTYPE=image/jpeg:https://www.owb.at/wp-content/uploads/2024/07/0c93998e-f01e-4489-8e27-67786ab135e6.jpg
ORGANIZER;CN="Hans Mehrl":MAILTO:johann.mehrl@chello.atE
END:VEVENT
BEGIN:VEVENT
DTSTART;TZID=Europe/Vienna:20240608T180000
DTEND;TZID=Europe/Vienna:20240608T180000
DTSTAMP:20260421T181819
CREATED:20240116T115158Z
LAST-MODIFIED:20240116T115650Z
UID:17340-1717869600-1717869600@www.owb.at
SUMMARY:Frühlingsfest (OÖ)
DESCRIPTION:Beim Frühlingsfest 2024 wird uns der Deutschkreutzer Topwinzer Albert Gesellmann die Ehre geben. Spitzenkoch Erich Lukas und sein Team werden uns mit einem auf die Weiß- und Rotweine abgestimmten Menü verwöhnen. \nDer Preis für das Diner mit Aperitif\, Weinbegleitung\, Mineralwasser und Mocca beträgt pro Person für Mitglieder der Weinbruderschaft und deren Begleitung € 130\,00 und für Gäste € 150\,00 \n(Details folgen noch in gesonderter Aussendung).
URL:https://www.owb.at/event/fruehlingsfest-2024/
LOCATION:VERDI Restaurant & Einkehr\, Pachmaayrstraße 137\, Linz\, Oberösterreich\, 4040\, Österreich
CATEGORIES:Allgemein,Oberösterreich
ATTACH;FMTTYPE=image/jpeg:https://www.owb.at/wp-content/uploads/2018/08/owb-o-verdi01.jpg
END:VEVENT
BEGIN:VEVENT
DTSTART;VALUE=DATE:20240614
DTEND;VALUE=DATE:20240616
DTSTAMP:20260421T181819
CREATED:20231228T120628Z
LAST-MODIFIED:20231228T121801Z
UID:17209-1718323200-1718495999@www.owb.at
SUMMARY:Ordensfest auf der Festung Kufstein
DESCRIPTION:
URL:https://www.owb.at/event/ordensfest-auf-der-festung-kufstein/
LOCATION:Festung Kufstein\, Oberer Stadtplatz 14\, Kufstein\, Tirol\, 6330\, Österreich
CATEGORIES:Allgemein,Tirol
ATTACH;FMTTYPE=image/jpeg:https://www.owb.at/wp-content/uploads/2023/12/Bild-28.12.23-um-13.14-scaled.jpeg
END:VEVENT
BEGIN:VEVENT
DTSTART;TZID=Europe/Vienna:20240621T180000
DTEND;TZID=Europe/Vienna:20240621T220000
DTSTAMP:20260421T181819
CREATED:20231119T181530Z
LAST-MODIFIED:20240521T182203Z
UID:16858-1718992800-1719007200@www.owb.at
SUMMARY:SB at its best - Stmk und ein"Rest der Welt" (St)
DESCRIPTION:
URL:https://www.owb.at/event/sb-at-its-best-stmk-gegen-den-rest-der-welt/
LOCATION:Weinbauschule Silberberg\, Kaindorf\, Steiermark\, 8430\, Österreich
CATEGORIES:Allgemein,Steiermark
ATTACH;FMTTYPE=image/jpeg:https://www.owb.at/wp-content/uploads/2023/11/image-1.jpeg
END:VEVENT
END:VCALENDAR