BEGIN:VCALENDAR
VERSION:2.0
PRODID:-//Österreichische Weinbruderschaft - ECPv6.11.2//NONSGML v1.0//EN
CALSCALE:GREGORIAN
METHOD:PUBLISH
X-ORIGINAL-URL:https://www.owb.at
X-WR-CALDESC:Veranstaltungen für Österreichische Weinbruderschaft
REFRESH-INTERVAL;VALUE=DURATION:PT1H
X-Robots-Tag:noindex
X-PUBLISHED-TTL:PT1H
BEGIN:VTIMEZONE
TZID:Europe/Vienna
BEGIN:DAYLIGHT
TZOFFSETFROM:+0100
TZOFFSETTO:+0200
TZNAME:CEST
DTSTART:20240331T010000
END:DAYLIGHT
BEGIN:STANDARD
TZOFFSETFROM:+0200
TZOFFSETTO:+0100
TZNAME:CET
DTSTART:20241027T010000
END:STANDARD
END:VTIMEZONE
BEGIN:VEVENT
DTSTART;VALUE=DATE:20240312
DTEND;VALUE=DATE:20240313
DTSTAMP:20260421T234029
CREATED:20240202T145816Z
LAST-MODIFIED:20240202T150242Z
UID:17427-1710201600-1710287999@www.owb.at
SUMMARY:Friaul & Collio (S)
DESCRIPTION:Bitte diesen Termin für köstliche Weine aus Friaul & Collio vormerken! \nEine Einladung folgt.
URL:https://www.owb.at/event/friaul_collio-s/
LOCATION:Hubertushof\, Alpenstraße 110\, Anif\, Salzburg\, 5081\, Österreich
CATEGORIES:Allgemein,Salzburg
ATTACH;FMTTYPE=image/png:https://www.owb.at/wp-content/uploads/2018/03/wappen-salzburg.png
END:VEVENT
BEGIN:VEVENT
DTSTART;TZID=Europe/Vienna:20240312T183000
DTEND;TZID=Europe/Vienna:20240312T210000
DTSTAMP:20260421T234029
CREATED:20240125T163348Z
LAST-MODIFIED:20240307T074654Z
UID:17396-1710268200-1710277200@www.owb.at
SUMMARY:März-Stammtisch (B)
DESCRIPTION:Stammtisch mit Thema “Genussreise durch das Burgenland: von Nord bis Süd”! \nEine Gegenüberstellung verschiedener Weinsorten aus den unterschiedlichen Regionen\, sorgfältig vorbereitet von KS Michael Theuritzbacher & WB Andreas Jandrasitz. \nDieser Stammtisch findet bei unserem Weinbruder Hans Preschitz in Neusiedl statt. \nKostenbeitrag für Verkostung und Winzerjause €45\,-! \nBeginn um 18:30. \nLiebe Interessenten!\nSoeben (5.3. – 14:35) wurde der letzte freie Platz für diese Veranstaltung vergeben! Für eine Vormerkung auf der Warteliste bitte mit dem Majordomus Kontakt aufnehmen!
URL:https://www.owb.at/event/maerz24-stammtisch-b/
LOCATION:Buschenschank Preschitz\, Kalvarienbergstraße 29\, Neusiedl am See\, Burgenland\, 7100\, Österreich
CATEGORIES:Allgemein,Burgenland
ATTACH;FMTTYPE=image/jpeg:https://www.owb.at/wp-content/uploads/2024/01/Preschitz.jpeg
END:VEVENT
BEGIN:VEVENT
DTSTART;TZID=Europe/Vienna:20240315T180000
DTEND;TZID=Europe/Vienna:20240315T220000
DTSTAMP:20260421T234029
CREATED:20231119T180419Z
LAST-MODIFIED:20240110T111843Z
UID:16850-1710525600-1710540000@www.owb.at
SUMMARY:"châteauneuf du pape" Vertikale (St)
DESCRIPTION:
URL:https://www.owb.at/event/chateauneuf-du-pape-vertikale/
LOCATION:Ferl’s Weinstube\, Burggasse 10\, Graz\, Steiermark\, 8010\, Österreich
CATEGORIES:Allgemein,Steiermark
ATTACH;FMTTYPE=image/png:https://www.owb.at/wp-content/uploads/2023/11/image.png
END:VEVENT
BEGIN:VEVENT
DTSTART;TZID=Europe/Vienna:20240316T180000
DTEND;TZID=Europe/Vienna:20240316T230000
DTSTAMP:20260421T234029
CREATED:20231120T132703Z
LAST-MODIFIED:20240308T222102Z
UID:16896-1710612000-1710630000@www.owb.at
SUMMARY:Sherry – veredelte Weine aus Jerez (W/NÖ)
DESCRIPTION:Sherry \nveredelte Weine aus Jerez\nDer Komtureirat der Komturei Wien Niederösterreich der Österreichischen Weinbruderschaft freut sich zu einer Verkostung an Sherry Weinen aus Jerez einzuladen. \nProgramm\nBeginn: 18:00 Uhr mit Aperitif\nanschließend\nVerkostung von verschiedenen Sherry Typen\nbegleitend dazu kaltes Buffet\nSherry als Speisenbegleiter ist in unseren Breiten sehr selten. In Andalusien\, dem\nHerkunftsland dieser Weine\, jedoch allgegenwärtig. \nWir werden von Fino über Manzanilla\, Amontillado\nbis hin zu Pedro Ximes\, von trocken bis sehr süß\, die verschiedenen Sherries\nkennenlernen und vergleichen können. Ebenso werden wir\netwas über die Erzeugung dieser Weine erfahren. \nWir freuen uns\, zu dieser Veranstaltung\, die Weinbrüder mit ihrer Begleitungsowie Gäste begrüßen zu dürfen. \nKosten für Mitglieder: € 65\,— pro PersonKosten für Gäste: € 75\,— pro PersonBezahlung vor Ort erbeten \nHinweis: Bei unseren Veranstaltungen werden Fotos gemacht werden\, von denen eine Auswahl auf unserer Website für unsere Weinbrüder veröffentlicht werden. Mit der Anmeldung zu einer Veranstaltung wird von den Teilnehmern das ausdrückliche Einverständnis gegeben\, Bilder von den Teilnehmern zu machen und auf der Website zu veröffentlichen.
URL:https://www.owb.at/event/sherry-jerez-24/
LOCATION:Hotel Rathaus Wein und Design\, Lange Gasse 13\, Wien\, Wien\, 1080
CATEGORIES:Allgemein,Wien und Niederösterreich
ATTACH;FMTTYPE=image/jpeg:https://www.owb.at/wp-content/uploads/2023/11/Sherry-lager-in-jerez_21855349_fgeoffroy-500x332-1.jpg
END:VEVENT
BEGIN:VEVENT
DTSTART;TZID=Europe/Vienna:20240319T183000
DTEND;TZID=Europe/Vienna:20240319T183000
DTSTAMP:20260421T234029
CREATED:20240116T114213Z
LAST-MODIFIED:20240116T114422Z
UID:17331-1710873000-1710873000@www.owb.at
SUMMARY:Spanien 2004 (OÖ)
DESCRIPTION:Weinbruder Helmut Huber präsentiert uns große Rotweine aus dem berühmten spanischen Jahrgang 2004 mit 20 Jahren Reife. \nPreis pro Person: € 180\,00 inkl. Menü
URL:https://www.owb.at/event/fwp-03-2024/
LOCATION:Stadtbräu JOSEF\, Landstraße 49\, Linz\, 4020\, Österreich
CATEGORIES:Allgemein,Oberösterreich
ATTACH;FMTTYPE=image/jpeg:https://www.owb.at/wp-content/uploads/2018/08/owb-o-josef01.jpg
END:VEVENT
BEGIN:VEVENT
DTSTART;TZID=Europe/Vienna:20240322T183000
DTEND;TZID=Europe/Vienna:20240322T230000
DTSTAMP:20260421T234029
CREATED:20231228T120101Z
LAST-MODIFIED:20240221T203008Z
UID:17202-1711132200-1711148400@www.owb.at
SUMMARY:Kellereigenossenschaft Terlan/Südtirol (T)
DESCRIPTION:
URL:https://www.owb.at/event/kellereigenossenschaft-terlan-suedtirol/
LOCATION:Goldener Löwe\, Kufstein\, Oberer Stadtplatz 14\, Kufstein\, Tirol\, 6330\, Österreich
CATEGORIES:Allgemein,Tirol
ATTACH;FMTTYPE=image/png:https://www.owb.at/wp-content/uploads/2020/06/Bildschirmfoto-2020-06-08-um-16.04.37.png
END:VEVENT
BEGIN:VEVENT
DTSTART;TZID=Europe/Vienna:20240324T150000
DTEND;TZID=Europe/Vienna:20240324T180000
DTSTAMP:20260421T234029
CREATED:20240313T093131Z
LAST-MODIFIED:20240318T070840Z
UID:17727-1711292400-1711303200@www.owb.at
SUMMARY:Zentralasien (K)
DESCRIPTION:Am Sonntag\, den 24.März 2024\, werden wir uns um 15.00 Uhr mit der alten Weinkultur Zentralasiens auseinandersetzen. Obwohl die Masse der Trauben zu Tafeltrauben\, Fruchtextrakten und Rosinen verarbeitet wird\, erzeugt der überwiegende Teil der 6 zentral- asiatischen Länder durchaus bemerkenswerte Weine internationaler Stilistik. In manchen Regionen herrschen derart tiefe Temperaturen\, dass die Triebe der Weinreben über den Winter eingegraben und dafür die Rebstöcke im trockenen Sommer bewässert werden müssen. Die autochthonen und meist wurzelechten Rebsorten erweisen sich als wahre Zungenbrecher. Der Veranstaltungsleiter WB Markus Möller\, der beruflich diese Länder oft bereist\, wird sein Hauptaugenmerk auf Kasachstan\, Usbekistan und Tadschikistan legen. Uns erwartet mit Sicherheit eine außergewöhnliche Weinprobe\, die an Exotik kaum mehr zu überbieten sein wird – eine kulinarische Herausforderung auch für unseren „Krebsenwirt“ WB Herbert Wastian.
URL:https://www.owb.at/event/zentralasien/
LOCATION:Gasthaus Schenke zum Krebsen\, Neumarkter Str. 19\, Friesach\, Kärnten\, 9360\, Österreich
CATEGORIES:Allgemein,Kärnten
ATTACH;FMTTYPE=image/png:https://www.owb.at/wp-content/uploads/2024/03/Bildschirmfoto-2024-03-13-um-10.26.27.png
END:VEVENT
END:VCALENDAR