BEGIN:VCALENDAR
VERSION:2.0
PRODID:-//Österreichische Weinbruderschaft - ECPv6.11.2//NONSGML v1.0//EN
CALSCALE:GREGORIAN
METHOD:PUBLISH
X-WR-CALNAME:Österreichische Weinbruderschaft
X-ORIGINAL-URL:https://www.owb.at
X-WR-CALDESC:Veranstaltungen für Österreichische Weinbruderschaft
REFRESH-INTERVAL;VALUE=DURATION:PT1H
X-Robots-Tag:noindex
X-PUBLISHED-TTL:PT1H
BEGIN:VTIMEZONE
TZID:Europe/Vienna
BEGIN:DAYLIGHT
TZOFFSETFROM:+0100
TZOFFSETTO:+0200
TZNAME:CEST
DTSTART:20240331T010000
END:DAYLIGHT
BEGIN:STANDARD
TZOFFSETFROM:+0200
TZOFFSETTO:+0100
TZNAME:CET
DTSTART:20241027T010000
END:STANDARD
END:VTIMEZONE
BEGIN:VEVENT
DTSTART;TZID=Europe/Vienna:20240206T183000
DTEND;TZID=Europe/Vienna:20240206T183000
DTSTAMP:20260422T010005
CREATED:20240116T113507Z
LAST-MODIFIED:20240116T114132Z
UID:17323-1707244200-1707244200@www.owb.at
SUMMARY:Velich & Velich (OÖ)
DESCRIPTION:„Velich & Velich: Brüder zweier Welten – Burgenlands Ikonen in Weiß und Rot“  \nRoland und Heinz Velich – zwei Brüder\, zwei großartige Weingüter.\nWährend Heinz Velich in Apetlon mit Tiglat und Co hervorragende Weißweine keltert\, widmet sich Roland Velich mit dem Weingut Moric in Lutzmannsburg und am Leithaberg dem Blaufränkisch.\nWir werden beide Welten verkosten. \nPreis pro Person: € 180\,00 inkl. Menü
URL:https://www.owb.at/event/fwp-02-2024/
LOCATION:Stadtbräu JOSEF\, Landstraße 49\, Linz\, 4020\, Österreich
CATEGORIES:Allgemein,Oberösterreich
ATTACH;FMTTYPE=image/jpeg:https://www.owb.at/wp-content/uploads/2018/08/owb-o-josef01.jpg
END:VEVENT
BEGIN:VEVENT
DTSTART;TZID=Europe/Vienna:20240209T183000
DTEND;TZID=Europe/Vienna:20240209T230000
DTSTAMP:20260422T010005
CREATED:20231228T114823Z
LAST-MODIFIED:20240110T112001Z
UID:17194-1707503400-1707519600@www.owb.at
SUMMARY:Portwein - der Star aus dem Dourotal (T)
DESCRIPTION:
URL:https://www.owb.at/event/portwein-der-star-aus-dem-dourotal/
LOCATION:Goldener Löwe\, Kufstein\, Oberer Stadtplatz 14\, Kufstein\, Tirol\, 6330\, Österreich
CATEGORIES:Allgemein,Tirol
ATTACH;FMTTYPE=image/png:https://www.owb.at/wp-content/uploads/2020/06/Bildschirmfoto-2020-06-08-um-16.04.37.png
END:VEVENT
BEGIN:VEVENT
DTSTART;VALUE=DATE:20240220
DTEND;VALUE=DATE:20240221
DTSTAMP:20260422T010005
CREATED:20240201T170551Z
LAST-MODIFIED:20240202T144829Z
UID:17423-1708387200-1708473599@www.owb.at
SUMMARY:Mitgliederversammlung (S)
DESCRIPTION:Bitte diesen Termin für die Mitgliederversammlung vormerken! \nEine Einladung folgt.
URL:https://www.owb.at/event/mitgliederversammlung-s/
LOCATION:Hubertushof\, Alpenstraße 110\, Anif\, Salzburg\, 5081\, Österreich
CATEGORIES:Allgemein,Salzburg
ATTACH;FMTTYPE=image/png:https://www.owb.at/wp-content/uploads/2018/03/wappen-salzburg.png
END:VEVENT
BEGIN:VEVENT
DTSTART;TZID=Europe/Vienna:20240225T153000
DTEND;TZID=Europe/Vienna:20240225T210000
DTSTAMP:20260422T010005
CREATED:20231127T104604Z
LAST-MODIFIED:20240224T220413Z
UID:16947-1708875000-1708894800@www.owb.at
SUMMARY:Chateauneuf du pape – Weine aus dem südlichen Rhonetal (W/NÖ)
DESCRIPTION:Der Komtureirat der Komturei Wien Niederösterreich\nder\nÖsterreichischen Weinbruderschaft\nfreut sich\nzum\nChateauneuf du pape\nWeine aus dem südlichen Rhonetal\nim Gasthaus Floh \neinzuladen. \nStart: 15:30 UhrAperitifFingerfoodAnschließend:Verkostung verschiedener Weine aus Chateauneuf–du–Pape \n3–gängiges Abendessenebenfalls begleitet von Weinen aus Chateauneuf–du–Pape \nDie Weine wurden zusammengestellt vonunserem KellermeisterMartin Fürnhammer \n  \n\nDie öffentliche Anfahrt nach Langenlebarn kann mit derSchnellbahn S 40 erfolgen.Ab Wien Franz–Josefsbahnhof 14:37 Uhr – Heiligenstadt –an Langenlebarn 15:14 UhrAb dem Bahnhof Langenlebarn wird ein Shuttle–Service die Gäste zum Restaurant bringen \nFür die Rückfahrt zum Bahnhof steht ebenfalls ein Taxi zur Verfügung\, Züge nachWien gehen etwa alle 30 Minuten.
URL:https://www.owb.at/event/chateauneufdupape-wn24-2/
LOCATION:Gastwirtschaft Floh\, Tullnerstraße 1\, Langenlebarn\, Niederösterreich\, 3425
CATEGORIES:Allgemein,Wien und Niederösterreich
ATTACH;FMTTYPE=image/jpeg:https://www.owb.at/wp-content/uploads/2023/11/chateauneuf_du_pape_1200x675.jpg
END:VEVENT
BEGIN:VEVENT
DTSTART;TZID=Europe/Vienna:20240229T190000
DTEND;TZID=Europe/Vienna:20240229T220000
DTSTAMP:20260422T010005
CREATED:20231225T144659Z
LAST-MODIFIED:20240228T194720Z
UID:17164-1709233200-1709244000@www.owb.at
SUMMARY:Päpstliche Weine (K)
DESCRIPTION:Als am Dreikönigstag des Jahres 1309 Papst Clemens V. eingesetzt wurde\, brach für Avignon und die Umgebung eine glorreiche Zeit an. Nach dessen Tod und dank der Initiativen des neuen Papstes Johannes XXII wurde nicht nur das Schloss in Chateauneuf aufgebaut\, sondern auch der Wein immer bekannter. Nicht umsonst gab es bei der Hochzeit seiner Großnichte 11 Fässer Wein aus Chateauneuf. \nAm 29. Feber 2024 ab 19.00 im Gasthaus Schenke zum Krebsen möchten wir die Weine dieser geschichtsträchtigen Stadt verkosten. Neben den Besonderheiten der roten Chateauneuf du Pape Weinen werden wir auch weiße Vertreter entdecken\, um uns abschließen eine Meinung über die Qualität der „Messweine“ der frühen Päpste bilden zu können.
URL:https://www.owb.at/event/paepstliche-weine/
LOCATION:Gasthaus Schenke zum Krebsen\, Neumarkter Str. 19\, Friesach\, Kärnten\, 9360\, Österreich
CATEGORIES:Kärnten
ATTACH;FMTTYPE=image/png:https://www.owb.at/wp-content/uploads/2023/12/Bildschirmfoto-2024-02-06-um-09.31.03.png
END:VEVENT
END:VCALENDAR