BEGIN:VCALENDAR
VERSION:2.0
PRODID:-//Österreichische Weinbruderschaft - ECPv6.11.2//NONSGML v1.0//EN
CALSCALE:GREGORIAN
METHOD:PUBLISH
X-WR-CALNAME:Österreichische Weinbruderschaft
X-ORIGINAL-URL:https://www.owb.at
X-WR-CALDESC:Veranstaltungen für Österreichische Weinbruderschaft
REFRESH-INTERVAL;VALUE=DURATION:PT1H
X-Robots-Tag:noindex
X-PUBLISHED-TTL:PT1H
BEGIN:VTIMEZONE
TZID:Europe/Vienna
BEGIN:DAYLIGHT
TZOFFSETFROM:+0100
TZOFFSETTO:+0200
TZNAME:CEST
DTSTART:20240331T010000
END:DAYLIGHT
BEGIN:STANDARD
TZOFFSETFROM:+0200
TZOFFSETTO:+0100
TZNAME:CET
DTSTART:20241027T010000
END:STANDARD
END:VTIMEZONE
BEGIN:VEVENT
DTSTART;TZID=Europe/Vienna:20240109T180000
DTEND;TZID=Europe/Vienna:20240109T210000
DTSTAMP:20260422T022826
CREATED:20231204T151247Z
LAST-MODIFIED:20231204T201220Z
UID:17002-1704823200-1704834000@www.owb.at
SUMMARY:Jahresversammlung & Stammtisch (B)
DESCRIPTION:Das Jahr startet mit unserer Jahresversammlung und einem spannenden Thema für die erste Verkostung im neuen Jahr. \nDer Stammtisch steht unter dem Motto: “Neue Weinwelt vs. Alte Weinwelt!” für die unser Komtur eine hervorragende Serie zusammengetragen hat. \nBeginn der JV ist um 18:00!\nKostenbeitrag für diese Verkostung ist € 40\,- für Weine\, Wasser & Service.\nAnmeldung bis spätestens Donnerstag\, 4. Januar 2024!
URL:https://www.owb.at/event/januar-2023-stammtisch-b/
LOCATION:Hotel Wende\, Seestraße 40\, Neusiedl am See\, 7100\, Österreich
CATEGORIES:Allgemein,Burgenland
ATTACH;FMTTYPE=image/jpeg:https://www.owb.at/wp-content/uploads/2022/05/JV-2022.jpg
END:VEVENT
BEGIN:VEVENT
DTSTART;TZID=Europe/Vienna:20240116T183000
DTEND;TZID=Europe/Vienna:20240116T183000
DTSTAMP:20260422T022826
CREATED:20240116T112253Z
LAST-MODIFIED:20240116T114154Z
UID:17317-1705429800-1705429800@www.owb.at
SUMMARY:15 Jahrgänge Weingut Knoll (OÖ)
DESCRIPTION:Fachweinprobe: Emmerich Knoll präsentiert ausgewählte Jahrgänge und Lagen seines Weinguts. \nPreis pro Person: € 170\,00 inkl. Menü
URL:https://www.owb.at/event/fwp-01-2024/
LOCATION:Stadtbräu JOSEF\, Landstraße 49\, Linz\, 4020\, Österreich
CATEGORIES:Allgemein,Oberösterreich
ATTACH;FMTTYPE=image/jpeg:https://www.owb.at/wp-content/uploads/2018/08/owb-o-josef01.jpg
END:VEVENT
BEGIN:VEVENT
DTSTART;TZID=Europe/Vienna:20240119T170000
DTEND;TZID=Europe/Vienna:20240119T190000
DTSTAMP:20260422T022826
CREATED:20231119T175732Z
LAST-MODIFIED:20240110T111126Z
UID:16847-1705683600-1705690800@www.owb.at
SUMMARY:Neujahrsstammtisch (St)
DESCRIPTION:
URL:https://www.owb.at/event/neujahrsstammtisch-3/
LOCATION:Vinothek Kohlbacher\, Leonhardstraße 3\, Graz\, 8010
CATEGORIES:Allgemein,Steiermark
ATTACH;FMTTYPE=image/jpeg:https://www.owb.at/wp-content/uploads/2023/01/IMG_3558.jpg
ORGANIZER;CN="Hans Trattner":MAILTO:hansi.trattner@gmail.com
END:VEVENT
BEGIN:VEVENT
DTSTART;TZID=Europe/Vienna:20240119T183000
DTEND;TZID=Europe/Vienna:20240119T230000
DTSTAMP:20260422T022826
CREATED:20231222T174336Z
LAST-MODIFIED:20240110T111224Z
UID:17136-1705689000-1705705200@www.owb.at
SUMMARY:Mitgliederversammlung "Gasthof Goldener Löwe" Kufstein (T)
DESCRIPTION:
URL:https://www.owb.at/event/mitgliederversammlung/
LOCATION:Goldener Löwe\, Kufstein\, Oberer Stadtplatz 14\, Kufstein\, Tirol\, 6330\, Österreich
CATEGORIES:Allgemein,Tirol
ATTACH;FMTTYPE=image/png:https://www.owb.at/wp-content/uploads/2020/06/Bildschirmfoto-2020-06-08-um-16.04.37.png
END:VEVENT
BEGIN:VEVENT
DTSTART;TZID=Europe/Vienna:20240127T113000
DTEND;TZID=Europe/Vienna:20240127T180000
DTSTAMP:20260422T022826
CREATED:20240103T150346Z
LAST-MODIFIED:20240103T150954Z
UID:16903-1706355000-1706378400@www.owb.at
SUMMARY:Neujahrsempfang 2024 (W/NÖ)
DESCRIPTION:Der Komtureirat der Komturei Wien Niederösterreich\nder\nÖsterreichischen Weinbruderschaft\nfreut sich\nzum\nNeujahrsempfang 2024\nam Samstag\, 27. Jänner ab 11:30 Uhr\nim Gasthaus Plutzer Bräu\neinzuladen. \nWir freuen uns\, zu diesem Empfang die Weinbrüder mit ihrer Begleitung\,\nsowie Gäste\, begrüßen zu dürfen. \nProgramm\neinem Buffet vom Schwein (Vor u. Hauptspeise)\ndazu entweder tschechisches Bier vom Haus\,\noder Wein aus dem Keller der Komturei \nWeinbar\nIm Anschluß werden Weine aus den Beständen der Komturei Wien Niederösterreich verkostet. \n  \nUnkostenbeitrag:   Kosten für Mitglieder: Weinbrüder und ihre Begleitung werden von der Komturei zu diesem Empfang eingeladen.  \n                                    Kosten für Gäste: € 25\,– pro Person  – – Bezahlung vor Ort erbeten.
URL:https://www.owb.at/event/neujahr-2024-wno/
LOCATION:Plutzer Bräu\, Schrankgasse 2\, Wien\, Wien\, 1070
CATEGORIES:Allgemein,Wien und Niederösterreich
ATTACH;FMTTYPE=image/jpeg:https://www.owb.at/wp-content/uploads/2018/11/bsp_neuj.jpg
END:VEVENT
BEGIN:VEVENT
DTSTART;TZID=Europe/Vienna:20240128T150000
DTEND;TZID=Europe/Vienna:20240128T180000
DTSTAMP:20260422T022826
CREATED:20231225T144621Z
LAST-MODIFIED:20240120T100310Z
UID:17161-1706454000-1706464800@www.owb.at
SUMMARY:Südafrika (K)
DESCRIPTION:Am 2.Feber 1659\, also fast auf dem Tag genau vor 365 Jahren wurde in Südafrika der 1.Wein gekeltert. Dies möchte WB Mag. Paul Hauser zum Anlass nehmen\, Weine aus diesem herrlichen Land\, am Sonntag\, dem 28.Jänner 2024 um 15.00 Uhr im Gasthaus zum Krebsen in Friesach\, vorzustellen. Neben den Nationalsorten Pinotage und Chenin Blanc werden Weine verkostet\, die zu den weltbesten zählen und den Vergleich mit anderen Bordeaux Mischungen nicht zu fürchten brauchen. Weiß- und Rotweine aus den Regionen des „cool climate“ wie Stellenbosch\, Paarl\, Franschhock und Walker Bay stehen Robertson\, Klein Karoo und Worchester aus den heißeren Gefilden gegenüber. An diesem spannenden Nachmittag mit großen Weinen serviert Küchenchef WB Herbert Wastian ein landestypisches Menü.
URL:https://www.owb.at/event/suedafrika/
LOCATION:Gasthaus Schenke zum Krebsen\, Neumarkter Str. 19\, Friesach\, Kärnten\, 9360\, Österreich
CATEGORIES:Kärnten
ATTACH;FMTTYPE=image/png:https://www.owb.at/wp-content/uploads/2023/12/Bildschirmfoto-2024-01-20-um-09.59.51.png
END:VEVENT
END:VCALENDAR