BEGIN:VCALENDAR
VERSION:2.0
PRODID:-//Österreichische Weinbruderschaft - ECPv6.11.2//NONSGML v1.0//EN
CALSCALE:GREGORIAN
METHOD:PUBLISH
X-WR-CALNAME:Österreichische Weinbruderschaft
X-ORIGINAL-URL:https://www.owb.at
X-WR-CALDESC:Veranstaltungen für Österreichische Weinbruderschaft
REFRESH-INTERVAL;VALUE=DURATION:PT1H
X-Robots-Tag:noindex
X-PUBLISHED-TTL:PT1H
BEGIN:VTIMEZONE
TZID:Europe/Vienna
BEGIN:DAYLIGHT
TZOFFSETFROM:+0100
TZOFFSETTO:+0200
TZNAME:CEST
DTSTART:20260329T010000
END:DAYLIGHT
BEGIN:STANDARD
TZOFFSETFROM:+0200
TZOFFSETTO:+0100
TZNAME:CET
DTSTART:20261025T010000
END:STANDARD
END:VTIMEZONE
BEGIN:VEVENT
DTSTART;TZID=Europe/Vienna:20260421T183000
DTEND;TZID=Europe/Vienna:20260421T183000
DTSTAMP:20260421T022341
CREATED:20260120T142822Z
LAST-MODIFIED:20260217T145029Z
UID:23013-1776796200-1776796200@www.owb.at
SUMMARY:Lukas Hagen - FWP (OÖ)
DESCRIPTION:Das Weingut Lukas Hagen vom Kremser Rehberg präsentiert seine Weißweine\, ergänzt durch rote Kreszenzen aus dem Keller von Josef Krenner. \nPreis pro Person: € 180\,00 inkl. Menü
URL:https://www.owb.at/event/fwp-04-2026-2/
LOCATION:Stadtbräu JOSEF\, Landstraße 49\, Linz\, 4020\, Österreich
CATEGORIES:Allgemein,Oberösterreich
ATTACH;FMTTYPE=image/jpeg:https://www.owb.at/wp-content/uploads/2018/08/owb-o-josef01.jpg
END:VEVENT
END:VCALENDAR